BEGIN:VCALENDAR
VERSION:2.0
PRODID:-//ChamberMaster//Event Calendar 2.0//EN
METHOD:PUBLISH
X-PUBLISHED-TTL:P3D
REFRESH-INTERVAL:P3D
CALSCALE:GREGORIAN
BEGIN:VEVENT
DTSTART:20180617T150000Z
DTEND:20180617T190000Z
X-MICROSOFT-CDO-ALLDAYEVENT:FALSE
SUMMARY:Father's Day Brunch
DESCRIPTION:Join us at the Z Bar & Grill for our annual Father's Day Brunch!\n\nSunday\, June 17th\n\n10:00 AM to 2:00 PM\n\n\n\nReservations are not required\n\n\n\nWe will be having an omelet station!\n\nRest of the Menu:\n\n- Cheesy Hashbrowns\n\n- Bacon\n\n- Sausage\n\n- Biscuits & Gravy\n\n- French Toast\n\n- Pasta\n\n- Carsmel Rolls\n\n- Bread Pudding\n\n- Salad Bar\n\n\n\nPrices:\n\n- Adults $18\n\n- Seniors (55+) $16\n\n- Kids Ages 4-10 $10\n\n- Kids Ages 3 & Under are Free\n\n\n\nWe are excited to host this special meal for fathers\, family\, and friends! We look forward to celebrating with you!
X-ALT-DESC;FMTTYPE=text/html:<span>Join us at the Z Bar &amp\; Grill for our annual Father&#39\;s Day Brunch!<br />\nSunday\, June 17th<br />\n10:00 AM to 2:00 PM<br />\n<br />\nReservations are not required<br />\n<br />\nWe will be having an omelet station!<br />\nRest of the Menu:<br />\n- Cheesy Hashbrowns<br />\n- Bacon<br />\n- Sausage<br />\n- Biscuits &amp\; Gravy<br />\n- French Toast<br />\n- Pasta<br />\n- Carsmel Rolls<br />\n- Bread Pudding<br />\n- Salad Bar<br />\n<br />\nPrices:<br />\n- Adults $18<br />\n- Seniors (55+) $16<br />\n- Kids Ages 4-10 $10<br />\n- Kids Ages 3 &amp\; Under are Free<br />\n<br />\nWe are excited to host this special meal for fathers\, family\, and friends! We look forward to celebrating with you!</span>
LOCATION:Z103 bar & Grill 902 Frontier Drive - Fergus Falls
UID:e.314.49931
SEQUENCE:3
DTSTAMP:20260423T223200Z
URL:https://business.fergusfalls.com/events/details/father-s-day-brunch-49931
END:VEVENT

END:VCALENDAR
