BEGIN:VCALENDAR
VERSION:2.0
PRODID:-//ChamberMaster//Event Calendar 2.0//EN
METHOD:PUBLISH
X-PUBLISHED-TTL:P3D
REFRESH-INTERVAL:P3D
CALSCALE:GREGORIAN
BEGIN:VEVENT
DTSTART:20170211T003000Z
DTEND:20170211T030000Z
X-MICROSOFT-CDO-ALLDAYEVENT:FALSE
SUMMARY:Federated Family Fun Night
DESCRIPTION:Family Fun every Friday Night in February\n\nFeb 3   Board Games/Hodge-Podge\n\nFeb 10   Card Games\n\nFeb 17   Vintage Board Games\n\nFeb 24   Pizza and Railroad games\n\n \n\n(with the exception of Feb 24\, please bring a snack to share/no meal is served on those nights)
X-ALT-DESC;FMTTYPE=text/html:Family Fun every Friday Night in February<br />\n<span style="color:#1F497D\;">Feb 3 &ndash\; Board Games/Hodge-Podge</span><br />\n<span style="color:#1F497D\;">Feb 10 &ndash\; Card Games</span><br />\n<span style="color:#1F497D\;">Feb 17 &ndash\; Vintage Board Games</span><br />\n<span style="color:#1F497D\;">Feb 24 &ndash\; Pizza and Railroad games</span><br />\n&nbsp\;<br />\n<span style="color:#1F497D\;">(with the exception of Feb 24\, please bring a snack to share/no meal is served on those nights)</span><br />\n&nbsp\;
LOCATION:Federated Church 224 Summit Ave.
UID:e.314.38682
SEQUENCE:3
DTSTAMP:20260424T225401Z
URL:https://business.fergusfalls.com/events/details/federated-family-fun-night-02-10-2017-38682
END:VEVENT

END:VCALENDAR
