BEGIN:VCALENDAR
VERSION:2.0
PRODID:-//ChamberMaster//Event Calendar 2.0//EN
METHOD:PUBLISH
X-PUBLISHED-TTL:P3D
REFRESH-INTERVAL:P3D
CALSCALE:GREGORIAN
BEGIN:VEVENT
DTSTART:20180405T233000Z
DTEND:20180406T020000Z
X-MICROSOFT-CDO-ALLDAYEVENT:FALSE
SUMMARY:Bigwood Lecture - Deadliest Enemy\, Our War Against Killer Germs presented by Dr. Michael Osterholm
DESCRIPTION:Public health scientist Dr. Michael Osterholm\, author of "Deadliest Enemy: Our War Against Killer Germs\," will address the global dangers posed by infectious diseases when he appears as the keynote speaker for the 26th annual Bigwood Lecture on the Fergus Falls campus of Minnesota Community and Technical College.\n\nThe doors open for Osterholm's presentation at 6:30 p.m. Thursday\, April 5\, and the lecture begins at 7 p.m. His presentation is free and open to the public.\n\nOsterholm is world-renowned as an infectious disease expert and currently is the Regents Professor and Director of the Center for Infectious Disease Research and Policy at the University of Minnesota. He has served at the national level as a special advisor on issues related to bioterrorism and public health preparedness\, and for 15 years he was Minnesota's state epidemiologist.\n\n\nOsterholm warns in "Deadliest Enemy" that infectious diseases have the power to disrupt everyday life on a global scale\, overwhelm public and private resources\, and bring trade and transportation to a halt. In his "crisis agenda\," he lays out a realistic response that addresses these challenges.
X-ALT-DESC;FMTTYPE=text/html:<p>Public health scientist Dr. Michael Osterholm\, author of &ldquo\;Deadliest Enemy: Our War Against Killer Germs\,&rdquo\; will address the global dangers posed by infectious diseases when he appears as the keynote speaker for the 26th annual Bigwood Lecture on the Fergus Falls campus of Minnesota Community and Technical College.</p>\n\n<p>The doors open for Osterholm&rsquo\;s presentation at 6:30 p.m. Thursday\, April 5\, and the lecture begins at 7 p.m. His presentation is free and open to the public.</p>\n\n<p>Osterho<span style="font-family:inherit">lm</span><span style="font-family:inherit"> is world-renowned as an infectious disease expert and currently is the Regents Professor and Director of the Center for Infectious Disease Research and Policy at the University of Minnesota. He has served at the national level as a special advisor on issues related to bioterrorism and public health preparedness\, and for 15 years he was Minnesota&rsquo\;s state epidemiologist.</span></p>\n\n<div>\n<p>Osterholm warns in &ldquo\;Deadliest Enemy&rdquo\; that infectious diseases have the power to disrupt everyday life on a global scale\, overwhelm public and private resources\, and bring trade and transportation to a halt. In his &ldquo\;crisis agenda\,&rdquo\; he lays out a realistic response that addresses these challenges.</p>\n</div>\n<br />\n&nbsp\;
LOCATION:Legacy Hall\, M State Fergus Falls campus\, 1414 College Way\, Fergus Falls\, MN
UID:e.314.40122
SEQUENCE:3
DTSTAMP:20260424T000051Z
URL:https://business.fergusfalls.com/events/details/fergus-area-college-foundation-bigwood-lecture-dr-michael-osterholm-40122
END:VEVENT

END:VCALENDAR
