BEGIN:VCALENDAR
VERSION:2.0
PRODID:-//ChamberMaster//Event Calendar 2.0//EN
METHOD:PUBLISH
X-PUBLISHED-TTL:P3D
REFRESH-INTERVAL:P3D
CALSCALE:GREGORIAN
BEGIN:VEVENT
DTSTART:20160419T223000Z
DTEND:20160420T020000Z
X-MICROSOFT-CDO-ALLDAYEVENT:FALSE
SUMMARY:Fergus Area College Foundation Reception and Bigwood Lecture - Frances Rice
DESCRIPTION:Lieutenant Colonel Frances Rice\, United States Army\, Retired is a native of Atlanta\, Georgia and retired from the Army in 1984 after 20 years of active service. She received a Bachelor of Science degree from Drury College in 1973\, a Masters of Business Administration from Golden Gate University in 1976\, and a Juris Doctorate degree from the University of California\, Hastings College of Law in 1977. In 2005\, she became a co-founder and Chairman of the National Black Republican Association.\n\n\n\nFrances Rice is a Screenwriter\, Director and Executive Producer with Block Starz Music Television LLC. The studio is best known for its documentary film\, Oscar Micheaux: The Czar of Black Hollywood\, that was nominated for a Black Reel Award as the Outstanding Independent Documentary by the Foundation for the Advancement of African-Americans in Film. She is an alumnus of ScreenwritingU\, based in Hollywood\, and is represented as a screenwriter by Hollywood-based Accelerate Entertainment.\n\n\n\nAt the 2016 Bigwood Lecture she will lead us through her life's journey. The Bigwood Lecture is free for all to attend and is meant as a way to recognize engaged leaders and citizen participation and make us each think how we can become more engaged.\n\n\n\nOther events are currently being scheduled in the community around Frances Rice's time in Fergus Falls.\n\n\n\nSome interesting information about Frances: \n\n\n	Education - Juris Doctorate from University of California\, Master of Bus Admin from Golden Gate University\, Bachelor of Science from Drury College in MO. \n	Military Career - going from a Private in the Women's Army Corps in 1964 to retiring as a lawyer and Lieutenant Colonel in the Judge Advocate General's Corps twenty years later in 1984. Awarded Legion of Merit for her years of service. \n	African-American - Accorded the distinction of being one of America's top 100 Black Business and Professional Women by the editorial board of Dollars and Sense magazine. \n	Film - Screenwriter\, Director and Executive Producer with Block Starz Music Television LLC. The studio is best known for its documentary film\, Oscar Micheaux: The Czar of Black Hollywood\, that was nominated for a Black Reel Award as the Outstanding Independent Documentary by the Foundation for the Advancement of African-Americans in Film. \n	Political Activism - Frances Rice's great-great-grandparents were slaves.  She spent her formative years in poverty in the segregated South during the 1940's\, 1950's and 1960's. She suffered personally from discrimination in the Democrat-controlled South and while in High School participated in civil rights protests. Frances became politically active in 1982 and served as a member of President Ronald Reagan's Private Sector Initiatives Task Force.  She worked as a volunteer in the campaigns of Presidents Ronald Reagan\, George H. W. Bush\, and George W. Bush\, as well as Florida Governors Jeb Bush and Rick Scott.
X-ALT-DESC;FMTTYPE=text/html:<span style="color: rgb(34\, 34\, 34)\; font-family: arial\,tahoma\,helvetica\,freesans\,sans-serif\; font-size: 12px\;">Lieutenant Colonel Frances Rice\, United States Army\, Retired is a native of Atlanta\, Georgia and retired from the Army in 1984 after 20 years of active service. She received a Bachelor of Science degree from Drury College in 1973\, a Masters of Business Administration from Golden Gate University in 1976\, and a Juris Doctorate degree from the University of California\, Hastings College of Law in 1977. In 2005\, she became a co-founder and Chairman of the National Black Republican Association.</span><br />\n<br />\n<span style="color: rgb(34\, 34\, 34)\; font-family: arial\,tahoma\,helvetica\,freesans\,sans-serif\; font-size: 12px\;">Frances Rice is a Screenwriter\, Director and Executive Producer with Block Starz Music Television LLC. The studio is best known for its documentary film\, Oscar Micheaux: The Czar of Black Hollywood\, that was nominated for a Black Reel Award as the Outstanding Independent Documentary by the Foundation for the Advancement of African-Americans in Film. She is an alumnus of ScreenwritingU\, based in Hollywood\, and is represented as a screenwriter by Hollywood-based Accelerate Entertainment.</span><br />\n<br />\n<span style="font-family: segoe ui\,sans-serif\;"><span style="font-size: 10pt\;">At the 2016 Bigwood Lecture she will lead us through her life&#39\;s journey. The Bigwood Lecture is free for all to attend and is meant as a way to recognize engaged leaders and citizen participation and make us each think how we can become more engaged.<br />\n<br />\nOther events are currently being scheduled in the community around Frances Rice&#39\;s time in Fergus Falls.<br />\n<br />\nSome interesting information about Frances: </span></span>\n\n<ul>\n	<li><strong><span style="font-family: segoe ui\,sans-serif\;"><span style="font-size: 10pt\;">Education</span></span></strong><span style="font-family: segoe ui\,sans-serif\;"><span style="font-size: 10pt\;"> - Juris Doctorate from University of California\, Master of Bus Admin from Golden Gate University\, Bachelor of Science from Drury College in MO. </span></span></li>\n	<li><strong><span style="font-family: segoe ui\,sans-serif\;"><span style="font-size: 10pt\;">Military Career</span></span></strong><span style="font-family: segoe ui\,sans-serif\;"><span style="font-size: 10pt\;"> - going from a Private in the Women&#39\;s Army Corps in 1964 to retiring as a lawyer and Lieutenant Colonel in the Judge Advocate General&#39\;s Corps twenty years later in 1984. Awarded Legion of Merit for her years of service. </span></span></li>\n	<li><strong><span style="font-family: segoe ui\,sans-serif\;"><span style="font-size: 10pt\;">African-American</span></span></strong><span style="font-family: segoe ui\,sans-serif\;"><span style="font-size: 10pt\;"> - Accorded the distinction of being one of America&#39\;s top 100 Black Business and Professional Women by the editorial board of Dollars and Sense magazine. </span></span></li>\n	<li><strong><span style="font-family: segoe ui\,sans-serif\;"><span style="font-size: 10pt\;">Film</span></span></strong><span style="font-family: segoe ui\,sans-serif\;"><span style="font-size: 10pt\;"> - Screenwriter\, Director and Executive Producer with Block Starz Music Television LLC. The studio is best known for its documentary film\, Oscar Micheaux: The Czar of Black Hollywood\, that was nominated for a Black Reel Award as the Outstanding Independent Documentary by the Foundation for the Advancement of African-Americans in Film.&nbsp\;</span></span></li>\n	<li><strong><span style="font-family: segoe ui\,sans-serif\;"><span style="font-size: 10pt\;">Political Activism</span></span></strong><span style="font-family: segoe ui\,sans-serif\;"><span style="font-size: 10pt\;"> - Frances Rice&#39\;s great-great-grandparents were slaves.&nbsp\; She spent her formative years in poverty in the segregated South during the 1940&#39\;s\, 1950&#39\;s and 1960&#39\;s. She suffered personally from discrimination in the Democrat-controlled South and while in High School participated in civil rights protests. Frances became politically active in 1982 and served as a member of President Ronald Reagan&#39\;s Private Sector Initiatives Task Force.&nbsp\; She worked as a volunteer in the campaigns of Presidents Ronald Reagan\, George H. W. Bush\, and George W. Bush\, as well as Florida Governors Jeb Bush and Rick Scott.</span></span></li>\n</ul>\n
LOCATION:Legacy Hall\, M State Fergus Falls campus\, 1414 College Way\, Fergus Falls\, MN
UID:e.314.28158
SEQUENCE:3
DTSTAMP:20260425T163641Z
URL:https://business.fergusfalls.com/events/details/fergus-area-college-foundation-reception-and-bigwood-lecture-frances-rice-04-19-2016-28158
END:VEVENT

END:VCALENDAR
