BEGIN:VCALENDAR
VERSION:2.0
PRODID:-//ChamberMaster//Event Calendar 2.0//EN
METHOD:PUBLISH
X-PUBLISHED-TTL:P3D
REFRESH-INTERVAL:P3D
CALSCALE:GREGORIAN
BEGIN:VEVENT
DTSTART:20191114T220000Z
DTEND:20191115T003000Z
X-MICROSOFT-CDO-ALLDAYEVENT:FALSE
SUMMARY:Fergus Area College Foundation Scholarship Reception
DESCRIPTION:Fergus Area College Foundation and Minnesota State Community and Technical College hosts their annual Scholarship Reception honoring Fergus Falls campus scholarship recipients and recognizing scholarship donors.
X-ALT-DESC;FMTTYPE=text/html:<span style="color:#663300">Fergus Area College Foundation and Minnesota State Community and Technical College hosts their annual Scholarship Reception honoring Fergus Falls campus scholarship recipients and recognizing scholarship donors.</span>
LOCATION:Legacy Hall at the Fergus Falls campus of Minnesota State Community and Technical College.
UID:e.314.54068
SEQUENCE:3
DTSTAMP:20260422T201826Z
URL:https://business.fergusfalls.com/events/details/fergus-area-college-foundation-scholarship-reception-54068
END:VEVENT

END:VCALENDAR
