BEGIN:VCALENDAR
VERSION:2.0
PRODID:-//ChamberMaster//Event Calendar 2.0//EN
METHOD:PUBLISH
X-PUBLISHED-TTL:P3D
REFRESH-INTERVAL:P3D
CALSCALE:GREGORIAN
BEGIN:VEVENT
DTSTART:20171111T150000Z
DTEND:20171111T210000Z
X-MICROSOFT-CDO-ALLDAYEVENT:FALSE
SUMMARY:Fergus Falls 1st Annual Holiday Boutique
DESCRIPTION:Free admission!\n\n\n\nKnock out your holiday list!
X-ALT-DESC;FMTTYPE=text/html:Free admission!<br />\n<br />\nKnock out your holiday list!<br />\n<br />\n&nbsp\;
LOCATION:Bigwood Event Center 925 Western Avenue Fergus Falls\, MN 56537
UID:e.314.41307
SEQUENCE:3
DTSTAMP:20260424T074529Z
URL:https://business.fergusfalls.com/events/details/fergus-falls-1st-annual-holiday-boutique-41307
END:VEVENT

END:VCALENDAR
