BEGIN:VCALENDAR
VERSION:2.0
PRODID:-//ChamberMaster//Event Calendar 2.0//EN
METHOD:PUBLISH
X-PUBLISHED-TTL:P3D
REFRESH-INTERVAL:P3D
CALSCALE:GREGORIAN
BEGIN:VEVENT
DTSTART:20170328T140000Z
DTEND:20170328T170000Z
X-MICROSOFT-CDO-ALLDAYEVENT:FALSE
SUMMARY:Fergus Falls Alzheimer's Association Open House
DESCRIPTION:Fergus Falls Alzheimer's Association Open House
X-ALT-DESC;FMTTYPE=text/html:Fergus Falls Alzheimer&#39\;s Association Open House
LOCATION:123 E Lincoln Ave. #1 Fergus Falls MN 56537
UID:e.314.38696
SEQUENCE:3
DTSTAMP:20260424T225432Z
URL:https://business.fergusfalls.com/events/details/fergus-falls-alzheimer-s-association-open-house-38696
END:VEVENT

END:VCALENDAR
