BEGIN:VCALENDAR
VERSION:2.0
PRODID:-//ChamberMaster//Event Calendar 2.0//EN
METHOD:PUBLISH
X-PUBLISHED-TTL:P3D
REFRESH-INTERVAL:P3D
CALSCALE:GREGORIAN
BEGIN:VEVENT
DTSTART:20170208T230000Z
DTEND:20170209T010000Z
X-MICROSOFT-CDO-ALLDAYEVENT:FALSE
SUMMARY:Fergus Falls Area Community Foundation Gathering
DESCRIPTION:Join us for a community gathering to learn more about how we can make Fergus Falls a better place to live and work for all residents.
X-ALT-DESC;FMTTYPE=text/html:<span class="_4n-j _3cht fsl">Join us for a community gathering to learn more about how we can make Fergus Falls a better place to live and work for all residents.</span>
LOCATION:The Spot Panini & Wine 220 W Lincoln Ave\, Fergus Falls\,
UID:e.314.37254
SEQUENCE:3
DTSTAMP:20260424T225108Z
URL:https://business.fergusfalls.com/events/details/fergus-falls-area-community-foundation-gathering-37254
END:VEVENT

END:VCALENDAR
