BEGIN:VCALENDAR
VERSION:2.0
PRODID:-//ChamberMaster//Event Calendar 2.0//EN
METHOD:PUBLISH
X-PUBLISHED-TTL:P3D
REFRESH-INTERVAL:P3D
CALSCALE:GREGORIAN
BEGIN:VEVENT
DTSTART:20200219T173000Z
DTEND:20200219T193000Z
X-MICROSOFT-CDO-ALLDAYEVENT:FALSE
SUMMARY:Fergus Falls Area NOW meeting
DESCRIPTION:This is the Fergus Falls area chapter of the National Organization for Women. Membership is open to women and men who support equal rights for women.
X-ALT-DESC;FMTTYPE=text/html:This is the Fergus Falls area chapter of the National Organization for Women. Membership is open to women and men who support equal rights for women.
LOCATION:Hunan Spring back dining area
UID:e.314.56293
SEQUENCE:3
DTSTAMP:20260422T142801Z
URL:https://business.fergusfalls.com/events/details/fergus-falls-area-now-meeting-56293
END:VEVENT

END:VCALENDAR
