BEGIN:VCALENDAR
VERSION:2.0
PRODID:-//ChamberMaster//Event Calendar 2.0//EN
METHOD:PUBLISH
X-PUBLISHED-TTL:P3D
REFRESH-INTERVAL:P3D
CALSCALE:GREGORIAN
BEGIN:VEVENT
DTSTART:20160225T000000Z
DTEND:20160225T014500Z
X-MICROSOFT-CDO-ALLDAYEVENT:FALSE
SUMMARY:Fergus Falls Area Precinct Caucus Training
DESCRIPTION:With the outstanding turnout in Iowa and New Hampshire our fellow Bernie Sanders supporters have proven that when we come together and organize\, our voices can and will be heard. Let's do our part in keeping this momentum going here in Minnesota by preparing our precinct and encouraging our neighbors to come join us at the Caucus.\n\nIn our training we'll cover:\n\n- Basic overview of caucus process and how to prepare\n\n- Phone banking sign-up\n\n- Canvassing and volunteer sign-up
X-ALT-DESC;FMTTYPE=text/html:<span class="fsl">With the outstanding turnout in Iowa and New Hampshire our fellow Bernie Sanders supporters have proven that when we come together and organize\, our voices can and will be heard. Let&#39\;s do our part in keeping this momentum going here in Minnesota by preparing our precinct and encouraging our neighbors to come join us at the Caucus.<br />\nIn our training we&#39\;ll cover:<br />\n- Basic overview of caucus process and how to prepare<br />\n- Phone banking sign-up<br />\n- Canvassing and volunteer sign-up</span>
LOCATION:Show Map Hide Map Union Pizza & Brewing CO. 114 S Union Ave\, Fergus Falls\, Minnesota 56537
UID:e.314.31679
SEQUENCE:3
DTSTAMP:20260425T213926Z
URL:https://business.fergusfalls.com/events/details/fergus-falls-area-precinct-caucus-training-02-24-2016-31679
END:VEVENT

END:VCALENDAR
