BEGIN:VCALENDAR
VERSION:2.0
PRODID:-//ChamberMaster//Event Calendar 2.0//EN
METHOD:PUBLISH
X-PUBLISHED-TTL:P3D
REFRESH-INTERVAL:P3D
CALSCALE:GREGORIAN
BEGIN:VEVENT
DTSTART:20170113T140000Z
DTEND:20170113T190000Z
X-MICROSOFT-CDO-ALLDAYEVENT:FALSE
SUMMARY:Fergus Falls Blood Drive
DESCRIPTION:Fergus Falls Blood Drive- American Red Cross
X-ALT-DESC;FMTTYPE=text/html:Fergus Falls Blood Drive- American Red Cross<br />\n&nbsp\;
LOCATION:WestRidge Mall (Former Hallmark Store Location) Please bring Photo ID or Donor Card
UID:e.314.37469
SEQUENCE:3
DTSTAMP:20260425T021312Z
URL:https://business.fergusfalls.com/events/details/fergus-falls-blood-drive-37469
END:VEVENT

END:VCALENDAR
