BEGIN:VCALENDAR
VERSION:2.0
PRODID:-//ChamberMaster//Event Calendar 2.0//EN
METHOD:PUBLISH
X-PUBLISHED-TTL:P3D
REFRESH-INTERVAL:P3D
CALSCALE:GREGORIAN
BEGIN:VEVENT
DTSTART:20190320T143000Z
DTEND:20190320T160000Z
X-MICROSOFT-CDO-ALLDAYEVENT:FALSE
SUMMARY:Fergus Falls Business Valuation Training Event
DESCRIPTION:In this training\, our consultant\, Skip Carpenter\, will walk you through the basics of business valuation and the valuation drivers so that your decisions can be better informed. Walk away with specific examples of rule-of-thumb valuation concepts\, analysis and calculations to employ in your situation. There is a non-refundable $10 registration fee.
X-ALT-DESC;FMTTYPE=text/html:In this training\, our consultant\, Skip Carpenter\, will walk you through the basics of business valuation and the valuation drivers so that your decisions can be better informed. Walk away with specific examples of rule-of-thumb valuation concepts\, analysis and calculations to employ in your situation. There is a non-refundable $10 registration fee.
LOCATION:West Central Initiative 1000 Western Avenue Fergus Falls\, MN 56537
UID:e.314.52637
SEQUENCE:3
DTSTAMP:20260423T080229Z
URL:https://business.fergusfalls.com/events/details/fergus-falls-business-valuation-training-event-52637
END:VEVENT

END:VCALENDAR
