BEGIN:VCALENDAR
VERSION:2.0
PRODID:-//ChamberMaster//Event Calendar 2.0//EN
METHOD:PUBLISH
X-PUBLISHED-TTL:P3D
REFRESH-INTERVAL:P3D
CALSCALE:GREGORIAN
BEGIN:VEVENT
DTSTART:20190410T143000Z
DTEND:20190410T160000Z
X-MICROSOFT-CDO-ALLDAYEVENT:FALSE
SUMMARY:Fergus Falls Cash Flow Management Training Event
DESCRIPTION:On Wednesday\, April 10 from 9:30 am - 11:00 am our Consultant\, Skip Carpenter\, will present at West Central Initiative in Fergus Falls on "Cash Flow Management".\n\n \n\nCash is king when it comes to the financial health of your business. Join our consultant Skip Carpenter in this cash flow workshop. This workshop will provide a brief description of cash flow and how to better manage and improve it. Skip will also teach attendees how to accurately project your cash flow. \n\nThere is a non-refundable $10 registration fee.
X-ALT-DESC;FMTTYPE=text/html:<span style="color:#403F42\;"><span style="font-family:arial\,sans-serif\;"><span style="font-size:9.0pt\;">On Wednesday\, April 10 from 9:30 am - 11:00 am our Consultant\, Skip Carpenter\, will present at West Central Initiative in Fergus Falls on &quot\;Cash Flow Management&quot\;.</span></span></span><br />\n&nbsp\;<br />\n<span style="color:#333333\;"><span style="font-family:arial\,sans-serif\;"><span style="font-size:9.0pt\;">Cash is king when it comes to the financial health of your business. Join our consultant Skip Carpenter in this cash flow workshop. This workshop will provide a brief description of cash flow and how to better manage and improve it. Skip will also teach attendees how to accurately project your cash flow.&nbsp\;</span></span></span><br />\nThere is a non-refundable $10 registration fee.
LOCATION:West Central Initiative 1000 Western Avenue Fergus Falls\, MN 56537
UID:e.314.52642
SEQUENCE:3
DTSTAMP:20260423T075639Z
URL:https://business.fergusfalls.com/events/details/fergus-falls-cash-flow-management-training-event-52642
END:VEVENT

END:VCALENDAR
