BEGIN:VCALENDAR
VERSION:2.0
PRODID:-//ChamberMaster//Event Calendar 2.0//EN
METHOD:PUBLISH
X-PUBLISHED-TTL:P3D
REFRESH-INTERVAL:P3D
CALSCALE:GREGORIAN
BEGIN:VEVENT
DTSTART;VALUE=DATE:20190516
DTEND;VALUE=DATE:20190519
TRANSP:TRANSPARENT
X-MICROSOFT-CDO-ALLDAYEVENT:TRUE
SUMMARY:Fergus Falls City Wide Rummage Sales
DESCRIPTION:Rummage Sales will be happening in the City of Fergus Falls on Thursday\, May 16 - Saturday\, May 18. Check the ads in This Week's Shopping News for locations and times.
X-ALT-DESC;FMTTYPE=text/html:Rummage Sales will be happening in the City of Fergus Falls on Thursday\, May 16 - Saturday\, May 18. Check the ads in This Week&#39\;s Shopping News for locations and times.
LOCATION:See "This Week's Shopping News" for locations and times. http://www.themidweek.com/
UID:e.314.53876
SEQUENCE:3
DTSTAMP:20260423T050539Z
URL:https://business.fergusfalls.com/events/details/fergus-falls-city-wide-rummage-sales-53876
END:VEVENT

END:VCALENDAR
