BEGIN:VCALENDAR
VERSION:2.0
PRODID:-//ChamberMaster//Event Calendar 2.0//EN
METHOD:PUBLISH
X-PUBLISHED-TTL:P3D
REFRESH-INTERVAL:P3D
CALSCALE:GREGORIAN
BEGIN:VEVENT
DTSTART:20190323T180000Z
DTEND:20190323T220000Z
X-MICROSOFT-CDO-ALLDAYEVENT:FALSE
SUMMARY:Fergus Falls Craft Beer Tour
DESCRIPTION:FERGUS FALLS  \n\nFOR CRAFT BEER & CIDER\n\nOur team had a brilliant idea when determining the next markets to establish a Craft Beer Tour in - after adding Grand Forks to the lineup. What if\, we asked ourselves\, there was a halfway point between St. Cloud and Grand Forks? Enter Fergus Falls. The mileage math is so close but that's not really the reason it's the scene for our newest CBT. The community itself is even better - warm\, welcoming\, and ready to host a craft beer and cider event with open arms. And beer glasses.\n\n*Must be 21 Years Old to Attend\n\n\n\nThis event is a craft beer\, hard cider\, & malt beverage sampling event that is four hours long. The first hour is for VIP attendees\, who will receive: a sampling mug\, t-shirt\, custom beer tour swag\, extensive program\, and an additional hour of sampling. The remaining three hours are open for everyone.This is a 21+ event\, no exceptions. Save $10 on tickets at Fergus Falls Liquor Stores. Save $5 online
X-ALT-DESC;FMTTYPE=text/html:<h2>FERGUS FALLS&nbsp\;&hellip\;<br />\nFOR CRAFT BEER &amp\; CIDER</h2>\n\n<p>Our team had a brilliant idea when determining the next markets to establish a Craft Beer Tour in - after adding Grand Forks to the lineup. What if\, we asked ourselves\, there was a halfway point between St. Cloud and Grand Forks? Enter Fergus Falls. The mileage math is so close but that&rsquo\;s not really the reason it&rsquo\;s the scene for our newest CBT. The community itself is even better - warm\, welcoming\, and ready to host a craft beer and cider event with open arms. And beer glasses.</p>\n\n<p>*Must be 21 Years Old to Attend<br />\n<br />\n<span>This event is a craft beer\, hard cider\, &amp\; malt beverage sampling event that is four hours long. The first hour is for VIP attendees\, who will receive: a sampling mug\, t-shirt\, custom beer tour swag\, extensive program\, and an additional hour of sampling. The remaining three hours are open for everyone.This is a 21+ event\, no exceptions. Save $10 on tickets at Fergus Falls Liquor Stores. Save $5 online</span><br />\n&nbsp\;</p>\n
LOCATION:Bigwood Event Center 925 Western Ave Fergus Falls\, MN 56537-4803
UID:e.314.52187
SEQUENCE:3
DTSTAMP:20260423T075637Z
URL:https://business.fergusfalls.com/events/details/fergus-falls-craft-beer-tour-52187
END:VEVENT

END:VCALENDAR
