BEGIN:VCALENDAR
VERSION:2.0
PRODID:-//ChamberMaster//Event Calendar 2.0//EN
METHOD:PUBLISH
X-PUBLISHED-TTL:P3D
REFRESH-INTERVAL:P3D
CALSCALE:GREGORIAN
BEGIN:VEVENT
DTSTART:20160514T130000Z
DTEND:20160514T170000Z
X-MICROSOFT-CDO-ALLDAYEVENT:FALSE
SUMMARY:Fergus Falls Day of Caring * United Way of Otter Tail County
DESCRIPTION:On June 14th\, United Way will bring volunteers together to do outdoor projects for the community and non-profit organizations in the Fergus Falls area. This event will run from 8am - noon\, and projects will include planting gardens\, landscaping\, spring cleanup\, painting\, washing window and more! If you would like to make a difference in your community and volunteer for this great community event\, go to https://docs.google.com/forms/d/1bETEcsFlGlEbPxWvM9N8igEA1tsCiJWBt1HnhSaEpiQ/viewform?usp=send_form to register. Lunch will be provided after the event.
X-ALT-DESC;FMTTYPE=text/html:<span style="color: rgb(75\, 79\, 86)\; font-family: helvetica\, arial\, sans-serif\; font-size: 14px\; line-height: 18.76px\; background-color: rgb(255\, 255\, 255)\;">On June 14th\, United Way will bring volunteers together to do outdoor projects for the community and non-profit organizations in the Fergus Falls area. This event will run from 8am - noon\, and projects will include planting gardens\, landscaping\, spring cleanup\, painting\, washing window and more! If you would like to make a difference in your community and volunteer for this great community event\, go to&nbsp\;</span><a href="https://docs.google.com/forms/d/1bETEcsFlGlEbPxWvM9N8igEA1tsCiJWBt1HnhSaEpiQ/viewform?usp=send_form" rel="nofollow nofollow" style="color: rgb(54\, 88\, 153)\; cursor: pointer\; text-decoration: none\; font-family: helvetica\, arial\, sans-serif\; font-size: 14px\; line-height: 18.76px\; background-color: rgb(255\, 255\, 255)\;" target="_blank">https://docs.google.com/<wbr />forms/d/<wbr />1bETEcsFlGlEbPxWvM9N8igEA1t<wbr />sCiJWBt1HnhSaEpiQ/<wbr />viewform?usp=send_form</a><span style="color: rgb(75\, 79\, 86)\; font-family: helvetica\, arial\, sans-serif\; font-size: 14px\; line-height: 18.76px\; background-color: rgb(255\, 255\, 255)\;">&nbsp\;to register. Lunch will be provided after the event.</span>
LOCATION:United Way of Otter Tail County\, MN 120 E Washington Ave\, Fergus Falls\, Minnesota 56537
UID:e.314.32688
SEQUENCE:3
DTSTAMP:20260425T150335Z
URL:https://business.fergusfalls.com/events/details/fergus-falls-day-of-caring-united-way-of-otter-tail-county-05-14-2016-32688
END:VEVENT

END:VCALENDAR
