BEGIN:VCALENDAR
VERSION:2.0
PRODID:-//ChamberMaster//Event Calendar 2.0//EN
METHOD:PUBLISH
X-PUBLISHED-TTL:P3D
REFRESH-INTERVAL:P3D
CALSCALE:GREGORIAN
BEGIN:VEVENT
DTSTART:20160624T223000Z
DTEND:20160625T030000Z
X-MICROSOFT-CDO-ALLDAYEVENT:FALSE
SUMMARY:Fergus Falls Downtown Music & Art Stroll
DESCRIPTION:Come listen to great musicians\, see amazing art exhibits\, and get to know the Fergus Falls downtown art scene. Stroll stops scheduled for the Kaddatz Gallery/live music\, Chuck Christianson exhibit\, Lake Region Arts Council Gallery/music\, Art of the Lakes exhibit and chocolate and wine tasting\, A Center for the Arts/sidewalk chalk art contest\, Springboard for the Arts and The Spot where you can listen to music by 33 1/3 Revolutionaries\, Amanda Stand Alone and Daniel Olson & the Real Feels.
X-ALT-DESC;FMTTYPE=text/html:Come listen to great musicians\, see amazing art exhibits\, and get to know the Fergus Falls downtown art scene. Stroll stops scheduled for the Kaddatz Gallery/live music\, Chuck Christianson exhibit\, Lake Region Arts Council Gallery/music\, Art of the Lakes exhibit and chocolate and wine tasting\, A Center for the Arts/sidewalk chalk art contest\, Springboard for the Arts and The Spot where you can listen to music by 33 1/3 Revolutionaries\, Amanda Stand Alone and Daniel Olson &amp\; the Real Feels.
LOCATION:various Lincoln & Mill St. locations downtown Fergus Falls
UID:e.314.32871
SEQUENCE:3
DTSTAMP:20260425T130827Z
URL:https://business.fergusfalls.com/events/details/fergus-falls-downtown-music-art-stroll-06-24-2016-32871
END:VEVENT

END:VCALENDAR
