BEGIN:VCALENDAR
VERSION:2.0
PRODID:-//ChamberMaster//Event Calendar 2.0//EN
METHOD:PUBLISH
X-PUBLISHED-TTL:P3D
REFRESH-INTERVAL:P3D
CALSCALE:GREGORIAN
BEGIN:VEVENT
DTSTART:20171114T223000Z
DTEND:20171115T000000Z
X-MICROSOFT-CDO-ALLDAYEVENT:FALSE
SUMMARY:Fergus Falls Downtown Riverfront Council Board Meeting - Open
DESCRIPTION:Fergus Falls Downtown Riverfront Council Board Meeting\n\nOpen to the public - All welcome
X-ALT-DESC;FMTTYPE=text/html:Fergus Falls Downtown Riverfront Council Board Meeting<br />\nOpen to the public - All welcome<br />\n<br />\n&nbsp\;
LOCATION:Union Pizza & Brewing Co.
UID:e.314.43056
SEQUENCE:3
DTSTAMP:20260424T074149Z
URL:https://business.fergusfalls.com/events/details/fergus-falls-downtown-riverfront-council-board-meeting-open-43056
END:VEVENT

END:VCALENDAR
