BEGIN:VCALENDAR
VERSION:2.0
PRODID:-//ChamberMaster//Event Calendar 2.0//EN
METHOD:PUBLISH
X-PUBLISHED-TTL:P3D
REFRESH-INTERVAL:P3D
CALSCALE:GREGORIAN
BEGIN:VEVENT
DTSTART:20180804T140000Z
DTEND:20180804T180000Z
X-MICROSOFT-CDO-ALLDAYEVENT:FALSE
SUMMARY:Fergus Falls Farmers Market
DESCRIPTION:Fresh\, locally grown produce\, flowers\, hand crafted jewelry\, health & beauty products\, honey\, eggs\, cheese\, jams\, jellies\, pickled produce\, and so much more. Something for everyone made by members of our community!
X-ALT-DESC;FMTTYPE=text/html:Fresh\, locally grown produce\, flowers\, hand crafted jewelry\, health &amp\; beauty products\, honey\, eggs\, cheese\, jams\, jellies\, pickled produce\, and so much more. Something for everyone made by members of our community!
LOCATION:In front of our Museum on West Lincoln Avenue.
UID:e.314.49939
SEQUENCE:3
DTSTAMP:20260423T200126Z
URL:https://business.fergusfalls.com/events/details/fergus-falls-farmers-market-08-04-2018-49939
END:VEVENT

END:VCALENDAR
