BEGIN:VCALENDAR
VERSION:2.0
PRODID:-//ChamberMaster//Event Calendar 2.0//EN
METHOD:PUBLISH
X-PUBLISHED-TTL:P3D
REFRESH-INTERVAL:P3D
CALSCALE:GREGORIAN
BEGIN:VEVENT
DTSTART:20180808T190000Z
DTEND:20180808T223000Z
X-MICROSOFT-CDO-ALLDAYEVENT:FALSE
SUMMARY:Fergus Falls Farmers Market
DESCRIPTION:Locally grown produce and flowers\, hand crafted artisan products\, eggs\, jewelry\, honey\, health and beauty products made just for you\, cheese\, meat\, wild caught salmon\, and so much more. Something for everyone produced by members of our community!
X-ALT-DESC;FMTTYPE=text/html:Locally grown produce and flowers\, hand crafted artisan products\, eggs\, jewelry\, honey\, health and beauty products made just for you\, cheese\, meat\, wild caught salmon\, and so much more. Something for everyone produced by members of our community!
LOCATION:In front of our Museum on West Lincoln Avenue
UID:e.314.49960
SEQUENCE:3
DTSTAMP:20260423T181657Z
URL:https://business.fergusfalls.com/events/details/fergus-falls-farmers-market-08-08-2018-49960
END:VEVENT

END:VCALENDAR
