BEGIN:VCALENDAR
VERSION:2.0
PRODID:-//ChamberMaster//Event Calendar 2.0//EN
METHOD:PUBLISH
X-PUBLISHED-TTL:P3D
REFRESH-INTERVAL:P3D
CALSCALE:GREGORIAN
BEGIN:VEVENT
DTSTART:20160824T190000Z
DTEND:20160824T223000Z
X-MICROSOFT-CDO-ALLDAYEVENT:FALSE
SUMMARY:Fergus Falls Farmers Market
DESCRIPTION:Fun gathering of vendors to offer you their home made and home grown product. Check out their beautiful jewelry\, wood products\, toys\, quilts and a wonderful variety of other crafts made by our local talented people. Now we have a vast array of fruits and vegetables that taste better and are better for you than what you get at a grocery store. Enjoy the summer bounty and help our local artisans and growers earn some income!
X-ALT-DESC;FMTTYPE=text/html:Fun gathering of vendors to offer you their home made and home grown product. Check out their beautiful jewelry\, wood products\, toys\, quilts and a wonderful variety of other crafts made by our local talented people. Now we have a vast array of fruits and vegetables that taste better and are better for you than what you get at a grocery store. Enjoy the summer bounty and help our local artisans and growers earn some income!
LOCATION:West Lincoln Avenue\, Fergus Falls\, in front of the best museum in Minnesota.
UID:e.314.35644
SEQUENCE:3
DTSTAMP:20260425T111036Z
URL:https://business.fergusfalls.com/events/details/fergus-falls-farmers-market-08-24-2016-35644
END:VEVENT

END:VCALENDAR
