BEGIN:VCALENDAR
VERSION:2.0
PRODID:-//ChamberMaster//Event Calendar 2.0//EN
METHOD:PUBLISH
X-PUBLISHED-TTL:P3D
REFRESH-INTERVAL:P3D
CALSCALE:GREGORIAN
BEGIN:VEVENT
DTSTART:20160831T190000Z
DTEND:20160831T223000Z
X-MICROSOFT-CDO-ALLDAYEVENT:FALSE
SUMMARY:Fergus Falls Farmers Market
DESCRIPTION:Grand Opening for the season. "Try us\, you will like us!" is the theme and all vendors will offer a sample of one of their products or a drawing for a product. This market will be every Wednesday afternoon all summer into the Fall.
X-ALT-DESC;FMTTYPE=text/html:Grand Opening for the season. &quot\;Try us\, you will like us!&quot\; is the theme and all vendors will offer a sample of one of their products or a drawing for a product. This market will be every Wednesday afternoon all summer into the Fall.
LOCATION:Front lawn of our awesome Museum on West Lincoln Avenue.
UID:e.314.32758
SEQUENCE:3
DTSTAMP:20260425T112104Z
URL:https://business.fergusfalls.com/events/details/fergus-falls-farmers-market-08-31-2016-32758
END:VEVENT

END:VCALENDAR
