BEGIN:VCALENDAR
VERSION:2.0
PRODID:-//ChamberMaster//Event Calendar 2.0//EN
METHOD:PUBLISH
X-PUBLISHED-TTL:P3D
REFRESH-INTERVAL:P3D
CALSCALE:GREGORIAN
BEGIN:VEVENT
DTSTART:20190928T140000Z
DTEND:20190928T180000Z
X-MICROSOFT-CDO-ALLDAYEVENT:FALSE
SUMMARY:Fergus Falls Farmers Market
DESCRIPTION:Locally grown produce and flowers\, hand crafted artisan products\, eggs\, jewelry\, honey\, health and beauty products made just for you\, cheese\, meat\, wild caught salmon\, and so much more. Something for everyone produced by members of our community!
X-ALT-DESC;FMTTYPE=text/html:Locally grown produce and flowers\, hand crafted artisan products\, eggs\, jewelry\, honey\, health and beauty products made just for you\, cheese\, meat\, wild caught salmon\, and so much more. Something for everyone produced by members of our community!
LOCATION:In front of our Museum on West Lincoln Avenue
UID:e.314.54106
SEQUENCE:3
DTSTAMP:20260422T223131Z
URL:https://business.fergusfalls.com/events/details/fergus-falls-farmers-market-09-28-2019-54106
END:VEVENT

END:VCALENDAR
