BEGIN:VCALENDAR
VERSION:2.0
PRODID:-//ChamberMaster//Event Calendar 2.0//EN
METHOD:PUBLISH
X-PUBLISHED-TTL:P3D
REFRESH-INTERVAL:P3D
CALSCALE:GREGORIAN
BEGIN:VEVENT
DTSTART:20151007T190000Z
DTEND:20151007T223000Z
X-MICROSOFT-CDO-ALLDAYEVENT:FALSE
SUMMARY:Fergus Falls Farmers Market
DESCRIPTION:Fergus Falls Farmers Market every Wednesday & Saturday in front of the WOT Museum! Lots of baked goods\, hand crafted items\, canned goods\, produce\, eggs....and more! As the season progresses\, the vendors offer more and more for your good health\, delicious food\, and enjoyment.
X-ALT-DESC;FMTTYPE=text/html:Fergus Falls Farmers Market every Wednesday &amp\; Saturday&nbsp\;in front of the WOT Museum! Lots of baked goods\, hand crafted items\, canned goods\, produce\, eggs....and more! As the season progresses\, the vendors offer more and more for your good health\, delicious food\, and enjoyment.
LOCATION:1110 West Lincoln Avenue Fergus Falls\, MN (across from Quality Toyota)
UID:e.314.22783
SEQUENCE:3
DTSTAMP:20260426T030459Z
URL:https://business.fergusfalls.com/events/details/fergus-falls-farmers-market-10-07-2015-22783
END:VEVENT

END:VCALENDAR
