BEGIN:VCALENDAR
VERSION:2.0
PRODID:-//ChamberMaster//Event Calendar 2.0//EN
METHOD:PUBLISH
X-PUBLISHED-TTL:P3D
REFRESH-INTERVAL:P3D
CALSCALE:GREGORIAN
BEGIN:VEVENT
DTSTART:20151010T140000Z
DTEND:20151010T180000Z
X-MICROSOFT-CDO-ALLDAYEVENT:FALSE
SUMMARY:Fergus Falls Farmers Market
DESCRIPTION:A wonderful variety of home made and home grown products! Local people providing healthy\, beautiful\, useful and fun locally produced items for our community.....come out and support them!\n\nSaturday Farmers Markets offer baked goods\, hand crafted items\, produce\, honey\, maple syrup\, pasture-raised meat\, eggs and much\, much more!
X-ALT-DESC;FMTTYPE=text/html:A wonderful variety of home made and home grown products! Local people providing healthy\, beautiful\, useful and fun locally produced items for our community.....come out and support them!<br />\nSaturday Farmers Markets offer baked goods\, hand crafted items\, produce\, honey\, maple syrup\, pasture-raised meat\, eggs and much\, much more!
LOCATION:Front lawn of the Otter Tail Co. Historical Society Museum 1110 West Lincoln Avenue Fergus Falls\, MN
UID:e.314.22762
SEQUENCE:3
DTSTAMP:20260426T030600Z
URL:https://business.fergusfalls.com/events/details/fergus-falls-farmers-market-10-10-2015-22762
END:VEVENT

END:VCALENDAR
