BEGIN:VCALENDAR
VERSION:2.0
PRODID:-//ChamberMaster//Event Calendar 2.0//EN
METHOD:PUBLISH
X-PUBLISHED-TTL:P3D
REFRESH-INTERVAL:P3D
CALSCALE:GREGORIAN
BEGIN:VEVENT
DTSTART:20160604T140000Z
DTEND:20160604T180000Z
X-MICROSOFT-CDO-ALLDAYEVENT:FALSE
SUMMARY:Fergus Falls Farmers Market Grand Opening
DESCRIPTION:"Try us\, you will like us" is the theme of our Grand Opening for the summer season. Every vendor will either have a sample of one of their products or a drawing for a product! Come and sample the wide variety of locally and home made products.
X-ALT-DESC;FMTTYPE=text/html:&quot\;Try us\, you will like us&quot\; is the theme of our Grand Opening for the summer season. Every vendor will either have a sample of one of their products or a drawing for a product! Come and sample the wide variety of locally and home made products.
LOCATION:Front lawn of our fabulous Museum on West Lincoln Avenue!
UID:e.314.32740
SEQUENCE:3
DTSTAMP:20260425T131306Z
URL:https://business.fergusfalls.com/events/details/fergus-falls-farmers-market-grand-opening-06-04-2016-32740
END:VEVENT

END:VCALENDAR
