BEGIN:VCALENDAR
VERSION:2.0
PRODID:-//ChamberMaster//Event Calendar 2.0//EN
METHOD:PUBLISH
X-PUBLISHED-TTL:P3D
REFRESH-INTERVAL:P3D
CALSCALE:GREGORIAN
BEGIN:VEVENT
DTSTART:20170323T210000Z
DTEND:20170325T210000Z
X-MICROSOFT-CDO-ALLDAYEVENT:FALSE
SUMMARY:Fergus Falls Festival Of Quilts
DESCRIPTION:8th Biennial Quilt show and Conference. Featuring "Gathering Friends" Quilt designers as the featured speaker and teacher. There will be 200+ quilts on display\, vendors\, demonstrations & classes.
X-ALT-DESC;FMTTYPE=text/html:8th Biennial Quilt show and Conference. Featuring &quot\;Gathering Friends&quot\; Quilt designers as the featured speaker and teacher. There will be 200+ quilts on display\, vendors\, demonstrations &amp\; classes.
LOCATION:Bigwood Event Center-Fergus Falls
UID:e.314.38912
SEQUENCE:3
DTSTAMP:20260424T211726Z
URL:https://business.fergusfalls.com/events/details/fergus-falls-festival-of-quilts-38912
END:VEVENT

END:VCALENDAR
