BEGIN:VCALENDAR
VERSION:2.0
PRODID:-//ChamberMaster//Event Calendar 2.0//EN
METHOD:PUBLISH
X-PUBLISHED-TTL:P3D
REFRESH-INTERVAL:P3D
CALSCALE:GREGORIAN
BEGIN:VEVENT
DTSTART:20180210T010000Z
DTEND:20180210T023000Z
X-MICROSOFT-CDO-ALLDAYEVENT:FALSE
SUMMARY:Fergus Falls Figure Drawing Co-op
DESCRIPTION:Join a live model for a figure drawing session in the lower level of the Kaddatz Galleries.\n\n\n\nAll ability levels welcome.
X-ALT-DESC;FMTTYPE=text/html:Join a live model for a figure drawing session in the lower level of the Kaddatz&nbsp\;Galleries.<br />\n<br />\nAll ability levels welcome.
LOCATION:Kaddatz Gallery 111 W Lincoln Ave. Fergus Falls MN 56537 (enter from alley door)
UID:e.314.43114
SEQUENCE:3
DTSTAMP:20260424T025528Z
URL:https://business.fergusfalls.com/events/details/fergus-falls-figure-drawing-co-op-02-09-2018-43114
END:VEVENT

END:VCALENDAR
