BEGIN:VCALENDAR
VERSION:2.0
PRODID:-//ChamberMaster//Event Calendar 2.0//EN
METHOD:PUBLISH
X-PUBLISHED-TTL:P3D
REFRESH-INTERVAL:P3D
CALSCALE:GREGORIAN
BEGIN:VEVENT
DTSTART:20160424T123000Z
DTEND:20160424T180000Z
X-MICROSOFT-CDO-ALLDAYEVENT:FALSE
SUMMARY:Fergus Falls Fire Association Annual Pancake Breakfast
DESCRIPTION:Fergus Falls Fire Fighter Association Annual Pancake Breakfast
X-ALT-DESC;FMTTYPE=text/html:Fergus Falls Fire Fighter Association Annual Pancake Breakfast
LOCATION:Fergus Falls Firehall 325 E. Washington Fergus Falls\, MN 56537
UID:e.314.12840
SEQUENCE:3
DTSTAMP:20260425T163055Z
URL:https://business.fergusfalls.com/events/details/fergus-falls-fire-association-annual-pancake-breakfast-04-24-2016-12840
END:VEVENT

END:VCALENDAR
