BEGIN:VCALENDAR
VERSION:2.0
PRODID:-//ChamberMaster//Event Calendar 2.0//EN
METHOD:PUBLISH
X-PUBLISHED-TTL:P3D
REFRESH-INTERVAL:P3D
CALSCALE:GREGORIAN
BEGIN:VEVENT
DTSTART:20191007T220000Z
DTEND:20191008T000000Z
X-MICROSOFT-CDO-ALLDAYEVENT:FALSE
SUMMARY:Fergus Falls Fire Dept Open House
DESCRIPTION:Previously the Spaghetti Feed\, we are excited for our open house this year.\n\n\n\nHot dogs\, chips\, and water will be served.\n\n\n\nWe will have demonstrations every 20 minutes as well as station tours and much more!\n\n\n\nMark your calendars!
X-ALT-DESC;FMTTYPE=text/html:<span>Previously the Spaghetti Feed\, we are excited for our open house this year.<br />\n<br />\nHot dogs\, chips\, and water will be served.<br />\n<br />\nWe will have demonstrations every 20 minutes as well as station tours and much more!<br />\n<br />\nMark your calendars!</span>
LOCATION:Fergus Falls Fire Department 325 E Washington Ave Fergus Falls MN 56537
UID:e.314.54780
SEQUENCE:3
DTSTAMP:20260422T203745Z
URL:https://business.fergusfalls.com/events/details/fergus-falls-fire-dept-open-house-54780
END:VEVENT

END:VCALENDAR
