BEGIN:VCALENDAR
VERSION:2.0
PRODID:-//ChamberMaster//Event Calendar 2.0//EN
METHOD:PUBLISH
X-PUBLISHED-TTL:P3D
REFRESH-INTERVAL:P3D
CALSCALE:GREGORIAN
BEGIN:VEVENT
DTSTART:20160424T123000Z
DTEND:20160424T180000Z
X-MICROSOFT-CDO-ALLDAYEVENT:FALSE
SUMMARY:Fergus Falls Firefighter's Association Pancake Breakfast Fundraiser & Open House
DESCRIPTION:31st Annual Fergus Falls Firefighter's Association Pancake Breakfast Fundraiser & Open House. Menu: Pancakes\, scrambled eggs\, link sausage and coffee or milk
X-ALT-DESC;FMTTYPE=text/html:31st Annual Fergus Falls Firefighter&#39\;s Association Pancake Breakfast Fundraiser &amp\; Open House. Menu: Pancakes\, scrambled eggs\, link sausage and coffee or milk
LOCATION:Fergus Falls Fire Station 325 East Washington Ave\, Fergus Falls MN
UID:e.314.31835
SEQUENCE:3
DTSTAMP:20260425T163510Z
URL:https://business.fergusfalls.com/events/details/fergus-falls-firefighter-s-association-pancake-breakfast-fundraiser-open-house-04-24-2016-31835
END:VEVENT

END:VCALENDAR
