BEGIN:VCALENDAR
VERSION:2.0
PRODID:-//ChamberMaster//Event Calendar 2.0//EN
METHOD:PUBLISH
X-PUBLISHED-TTL:P3D
REFRESH-INTERVAL:P3D
CALSCALE:GREGORIAN
BEGIN:VEVENT
DTSTART:20181008T220000Z
DTEND:20181009T000000Z
X-MICROSOFT-CDO-ALLDAYEVENT:FALSE
SUMMARY:Fergus Falls Firefighters’ Association Spaghetti Cook-Off
DESCRIPTION:Fergus Falls Firefighters' Association Spaghetti Cook-Off\n\n \n\nHello everyone! We want to invite all of you down to the Fire Station on Monday\, October 8th\, 2018\, for our annual Open House / Spaghetti Feed. Stop on down and enjoy the sauces from different restaurants from our area. As always\, there will be fun things for the kids to do as well. We look forward to seeing you on the 8th!
X-ALT-DESC;FMTTYPE=text/html:<div><span style="background-color: rgb(255\, 255\, 255)\; color: rgb(29\, 33\, 41)\; font-family: Helvetica\, Arial\, sans-serif\; font-size: 20px\;">Fergus Falls Firefighters&rsquo\; Association Spaghetti Cook-Off</span></div>\n\n<div>&nbsp\;</div>\n\n<div><span style="color: rgb(29\, 33\, 41)\; font-family: Helvetica\, Arial\, sans-serif\; font-size: 14px\; background-color: rgb(255\, 255\, 255)\;">Hello everyone! We want to invite all of you down to the Fire Station on Monday\, October 8th\, 2018\, for our annual Open House / Spaghetti Feed. Stop on down and enjoy the sauces from different restaurants from our area. As always\, there will be fun things for the kids to do as well. We look forward to seeing you on the 8th!</span></div>\n
LOCATION:Fergus Falls Fire Department 325 E Washington Ave Fergus Falls
UID:e.314.50465
SEQUENCE:3
DTSTAMP:20260423T150821Z
URL:https://business.fergusfalls.com/events/details/fergus-falls-firefighters-association-spaghetti-cook-off-50465
END:VEVENT

END:VCALENDAR
