BEGIN:VCALENDAR
VERSION:2.0
PRODID:-//ChamberMaster//Event Calendar 2.0//EN
METHOD:PUBLISH
X-PUBLISHED-TTL:P3D
REFRESH-INTERVAL:P3D
CALSCALE:GREGORIAN
BEGIN:VEVENT
DTSTART:20200627T160000Z
DTEND:20200628T010000Z
X-MICROSOFT-CDO-ALLDAYEVENT:FALSE
SUMMARY:Fergus Falls Food Truck Rally
DESCRIPTION:The Fergus Falls Walmart has invited area FOOD TRUCKS to serve in their parking lot.\nThe food truck season has been heavily impacted by recent events. So to help support our LOCAL concessionaires we are hosting them at your local Fergus Falls Walmart June 26th-28th (11a-8p).\n\nMark your calendars because you won't want to miss any of the 12 TRUCKS attending!\n\nHelp us SUPPORT local businesses in the tastiest way!\n\nOle & Lena's Pizzeria\n\nBig J's Smokehouse\n\nFish Factor 108\n\n(Full food truck roster -- follow them on Facebook)\n\n#Local #Community #FoodTruck #Walmart #LiveBetter
X-ALT-DESC;FMTTYPE=text/html:The Fergus Falls Walmart has invited area FOOD TRUCKS to serve in their parking lot.\n<p style="margin: 0px 0px 6px\; font-family: Helvetica\, Arial\, sans-serif\; color: rgb(29\, 33\, 41)\; font-size: 14px\;">The food truck season has been heavily impacted by recent events. So to help support our LOCAL concessionaires we are hosting them at your local Fergus Falls Walmart June 26th-28th (11a-8p).</p>\n\n<p style="margin: 6px 0px\; font-family: Helvetica\, Arial\, sans-serif\; color: rgb(29\, 33\, 41)\; font-size: 14px\;">Mark your calendars because you won&rsquo\;t want to miss any of the 12 TRUCKS attending!</p>\n\n<p style="margin: 6px 0px\; font-family: Helvetica\, Arial\, sans-serif\; color: rgb(29\, 33\, 41)\; font-size: 14px\;">Help us SUPPORT local businesses in the tastiest way!<br />\nOle &amp\; Lena&#39\;s Pizzeria<br />\nBig J&#39\;s Smokehouse<br />\nFish Factor 108</p>\n\n<p style="margin: 6px 0px\; font-family: Helvetica\, Arial\, sans-serif\; color: rgb(29\, 33\, 41)\; font-size: 14px\;">(Full food truck roster -- follow them on Facebook)<br />\n<a class="_58cn" data-ft="{" href="https://www.facebook.com/hashtag/local?__eep__=6&amp\;source=feed_text&amp\;epa=HASHTAG&amp\;__xts__%5B0%5D=68.ARAQI5ZB3SY8EVv7FBONvJ4puNJtEehoUckZPQsSDVnQfcMKAMufVrCqIVZvQ8whZ8_R4hQi9PmdokY0gwFV7IokXw5C2b9W6EE2N7s3dLQn5asYBNx9xcPXn5seYMhx87JmPxrFVxNQmuaEJnzwy5UudqVY2xdghnwNNgY7q1CzN7IvFQ71F7es7LQWhhuUFNqJKmVnkOTN6eC7qVmiV5HEcrbcHgjYKh0Q4qxMzJM87s5w1kYnJMH02FmNBbA-99HKr85MO3e1U5K2R96NjEhPsvDWjPvOVC-6SCbNr37t4OHr2zHczVQhgKq_eObuClgz6ApGvoYnY-5kOIVNPVhljsNQJ_j2kYh0Wf7way9vwzhMaqbRlg0&amp\;__tn__=%2ANK-R" style="color: rgb(56\, 88\, 152)\; cursor: pointer\; text-decoration-line: none\; font-family: inherit\;"><span class="_5afx" style="direction: ltr\; unicode-bidi: isolate\; font-family: inherit\;"><span aria-label="hashtag" class="_58cl _5afz" style="unicode-bidi: isolate\; color: rgb(54\, 88\, 153)\; font-family: inherit\;">#</span><span class="_58cm" style="font-family: inherit\;">Local</span></span></a>&nbsp\;<a class="_58cn" data-ft="{" href="https://www.facebook.com/hashtag/community?__eep__=6&amp\;source=feed_text&amp\;epa=HASHTAG&amp\;__xts__%5B0%5D=68.ARAQI5ZB3SY8EVv7FBONvJ4puNJtEehoUckZPQsSDVnQfcMKAMufVrCqIVZvQ8whZ8_R4hQi9PmdokY0gwFV7IokXw5C2b9W6EE2N7s3dLQn5asYBNx9xcPXn5seYMhx87JmPxrFVxNQmuaEJnzwy5UudqVY2xdghnwNNgY7q1CzN7IvFQ71F7es7LQWhhuUFNqJKmVnkOTN6eC7qVmiV5HEcrbcHgjYKh0Q4qxMzJM87s5w1kYnJMH02FmNBbA-99HKr85MO3e1U5K2R96NjEhPsvDWjPvOVC-6SCbNr37t4OHr2zHczVQhgKq_eObuClgz6ApGvoYnY-5kOIVNPVhljsNQJ_j2kYh0Wf7way9vwzhMaqbRlg0&amp\;__tn__=%2ANK-R" style="color: rgb(56\, 88\, 152)\; cursor: pointer\; text-decoration-line: none\; font-family: inherit\;"><span class="_5afx" style="direction: ltr\; unicode-bidi: isolate\; font-family: inherit\;"><span aria-label="hashtag" class="_58cl _5afz" style="unicode-bidi: isolate\; color: rgb(54\, 88\, 153)\; font-family: inherit\;">#</span><span class="_58cm" style="font-family: inherit\;">Community</span></span></a>&nbsp\;<a class="_58cn" data-ft="{" href="https://www.facebook.com/hashtag/foodtruck?__eep__=6&amp\;source=feed_text&amp\;epa=HASHTAG&amp\;__xts__%5B0%5D=68.ARAQI5ZB3SY8EVv7FBONvJ4puNJtEehoUckZPQsSDVnQfcMKAMufVrCqIVZvQ8whZ8_R4hQi9PmdokY0gwFV7IokXw5C2b9W6EE2N7s3dLQn5asYBNx9xcPXn5seYMhx87JmPxrFVxNQmuaEJnzwy5UudqVY2xdghnwNNgY7q1CzN7IvFQ71F7es7LQWhhuUFNqJKmVnkOTN6eC7qVmiV5HEcrbcHgjYKh0Q4qxMzJM87s5w1kYnJMH02FmNBbA-99HKr85MO3e1U5K2R96NjEhPsvDWjPvOVC-6SCbNr37t4OHr2zHczVQhgKq_eObuClgz6ApGvoYnY-5kOIVNPVhljsNQJ_j2kYh0Wf7way9vwzhMaqbRlg0&amp\;__tn__=%2ANK-R" style="color: rgb(56\, 88\, 152)\; cursor: pointer\; text-decoration-line: none\; font-family: inherit\;"><span class="_5afx" style="direction: ltr\; unicode-bidi: isolate\; font-family: inherit\;"><span aria-label="hashtag" class="_58cl _5afz" style="unicode-bidi: isolate\; color: rgb(54\, 88\, 153)\; font-family: inherit\;">#</span><span class="_58cm" style="font-family: inherit\;">FoodTruck</span></span></a>&nbsp\;<a class="_58cn" data-ft="{" href="https://www.facebook.com/hashtag/walmart?__eep__=6&amp\;source=feed_text&amp\;epa=HASHTAG&amp\;__xts__%5B0%5D=68.ARAQI5ZB3SY8EVv7FBONvJ4puNJtEehoUckZPQsSDVnQfcMKAMufVrCqIVZvQ8whZ8_R4hQi9PmdokY0gwFV7IokXw5C2b9W6EE2N7s3dLQn5asYBNx9xcPXn5seYMhx87JmPxrFVxNQmuaEJnzwy5UudqVY2xdghnwNNgY7q1CzN7IvFQ71F7es7LQWhhuUFNqJKmVnkOTN6eC7qVmiV5HEcrbcHgjYKh0Q4qxMzJM87s5w1kYnJMH02FmNBbA-99HKr85MO3e1U5K2R96NjEhPsvDWjPvOVC-6SCbNr37t4OHr2zHczVQhgKq_eObuClgz6ApGvoYnY-5kOIVNPVhljsNQJ_j2kYh0Wf7way9vwzhMaqbRlg0&amp\;__tn__=%2ANK-R" style="color: rgb(56\, 88\, 152)\; cursor: pointer\; text-decoration-line: none\; font-family: inherit\;"><span class="_5afx" style="direction: ltr\; unicode-bidi: isolate\; font-family: inherit\;"><span aria-label="hashtag" class="_58cl _5afz" style="unicode-bidi: isolate\; color: rgb(54\, 88\, 153)\; font-family: inherit\;">#</span><span class="_58cm" style="font-family: inherit\;">Walmart</span></span></a>&nbsp\;<a class="_58cn" data-ft="{" href="https://www.facebook.com/hashtag/livebetter?__eep__=6&amp\;source=feed_text&amp\;epa=HASHTAG&amp\;__xts__%5B0%5D=68.ARAQI5ZB3SY8EVv7FBONvJ4puNJtEehoUckZPQsSDVnQfcMKAMufVrCqIVZvQ8whZ8_R4hQi9PmdokY0gwFV7IokXw5C2b9W6EE2N7s3dLQn5asYBNx9xcPXn5seYMhx87JmPxrFVxNQmuaEJnzwy5UudqVY2xdghnwNNgY7q1CzN7IvFQ71F7es7LQWhhuUFNqJKmVnkOTN6eC7qVmiV5HEcrbcHgjYKh0Q4qxMzJM87s5w1kYnJMH02FmNBbA-99HKr85MO3e1U5K2R96NjEhPsvDWjPvOVC-6SCbNr37t4OHr2zHczVQhgKq_eObuClgz6ApGvoYnY-5kOIVNPVhljsNQJ_j2kYh0Wf7way9vwzhMaqbRlg0&amp\;__tn__=%2ANK-R" style="color: rgb(56\, 88\, 152)\; cursor: pointer\; text-decoration-line: none\; font-family: inherit\;"><span class="_5afx" style="direction: ltr\; unicode-bidi: isolate\; font-family: inherit\;"><span aria-label="hashtag" class="_58cl _5afz" style="unicode-bidi: isolate\; color: rgb(54\, 88\, 153)\; font-family: inherit\;">#</span><span class="_58cm" style="font-family: inherit\;">LiveBetter</span></span></a></p>\n
LOCATION:Fergus Falls Walmart Hwy 210 W. Fergus Falls\, MN
UID:e.314.57545
SEQUENCE:3
DTSTAMP:20260422T100053Z
URL:https://business.fergusfalls.com/events/details/fergus-falls-food-truck-rally-06-27-2020-57545
END:VEVENT

END:VCALENDAR
