BEGIN:VCALENDAR
VERSION:2.0
PRODID:-//ChamberMaster//Event Calendar 2.0//EN
METHOD:PUBLISH
X-PUBLISHED-TTL:P3D
REFRESH-INTERVAL:P3D
CALSCALE:GREGORIAN
BEGIN:VEVENT
DTSTART:20151003T150000Z
DTEND:20151003T230000Z
X-MICROSOFT-CDO-ALLDAYEVENT:FALSE
SUMMARY:Fergus Falls HS volleyball invite
DESCRIPTION:Fergus Falls HS volleyball invite
X-ALT-DESC;FMTTYPE=text/html:<span class="title" style="color: rgb(41\, 82\, 163)\;">Fergus Falls HS volleyball invite </span>
LOCATION:Kennedy Secondary School\, 601 Randolph Avenue
UID:e.314.24220
SEQUENCE:3
DTSTAMP:20260426T030137Z
URL:https://business.fergusfalls.com/events/details/fergus-falls-hs-volleyball-invite-10-03-2015-24220
END:VEVENT

END:VCALENDAR
