BEGIN:VCALENDAR
VERSION:2.0
PRODID:-//ChamberMaster//Event Calendar 2.0//EN
METHOD:PUBLISH
X-PUBLISHED-TTL:P3D
REFRESH-INTERVAL:P3D
CALSCALE:GREGORIAN
BEGIN:VEVENT
DTSTART:20160320T000000Z
DTEND:20160320T040000Z
X-MICROSOFT-CDO-ALLDAYEVENT:FALSE
SUMMARY:Fergus Falls Jaycees Totally 80's Prom
DESCRIPTION:Our Totally 80's Prom is a costume dance party - You come dressed from the 1980's and a DJ spins non-stop awesome 80's tunes all night ~ it will be totally rad!\n\n\n\nTickets will be available for $8.00 in advance from Affinity Plus Credit Union\, AmericInn Lodge & Suites\, 715 Hot Heads & the Victor Lundeen Company. Tickets will be $10 at the door.
X-ALT-DESC;FMTTYPE=text/html:<span class="fsl">Our Totally 80&#39\;s Prom is a costume dance party - You come dressed from the 1980&#39\;s and a DJ spins non-stop awesome 80&#39\;s tunes all night ~ it will be totally rad!<br />\n<br />\nTickets will be available for $8.00 in advance from Affinity Plus Credit Union\, AmericInn Lodge &amp\; Suites\, 715 Hot Heads &amp\; the Victor Lundeen Company. Tickets will be $10 at the door.</span>
LOCATION:Z103 Bar & Grill 902 Frontier Dr\, Fergus Falls\, Minnesota 56537
UID:e.314.30705
SEQUENCE:3
DTSTAMP:20260425T200248Z
URL:https://business.fergusfalls.com/events/details/fergus-falls-jaycees-totally-80-s-prom-03-19-2016-30705
END:VEVENT

END:VCALENDAR
