BEGIN:VCALENDAR
VERSION:2.0
PRODID:-//ChamberMaster//Event Calendar 2.0//EN
METHOD:PUBLISH
X-PUBLISHED-TTL:P3D
REFRESH-INTERVAL:P3D
CALSCALE:GREGORIAN
BEGIN:VEVENT
DTSTART:20191012T220000Z
DTEND:20191013T040000Z
X-MICROSOFT-CDO-ALLDAYEVENT:FALSE
SUMMARY:Fergus Falls Monster Mash @ The Spot
DESCRIPTION:TWO PART EVENT - Saturday\, October 12th\, 2019\n\nKid friendly "Trunk-R-Treat" - 5pm-6pm\n\nSpooky costume party @ The Spot - 6pm-close\n\n\n\nIt's that spooky time of year where ghouls\, vampires\, and witches roam.\n\n\n\nJoin us for a kid-friendly Trunk-r-Treat in the "old flour mill" parking lot behind Service Food! Participate by bringing your decorated vehicle to display while you hand out treats to kids! Or participate by bringing your kids to gather treats from trunks! Test out your Halloween costume before the big day\, or get ideas for your or your kids' costume! Businesses\, organizations and groups are encouraged to bring a vehicle and treats! Help bring in the Halloween season! No scary costumes\, please. The Trunk-r-Treat portion of this event will take place from 5pm-6pm.\n\n\n\nOnce the treats are collected and trunks are closed\, head on over to The Spot (220 W. Lincoln Ave.) where Fergus Brewing Company will be debuting their newest fall brew: Toastie Ghostie! Fill your caldron with this bubbly brew and enjoy other drink specials while gazing at all the ghastly costumes (some costumes may not be especially "kid friendly" and/or too spooky) and listen to live music from Sonus Nexus and performances by DJ Frankenlegs and DJ Slice Launcher! Costumes encouraged! Music at The Spot starts at 6pm!\n\n\n\nThis is a ghoulish opportunity to draw in a Halloween lovin' crowd\; we encourage downtown businesses to create interactive d cor (think "spooky selfie station" or "build-a-bat" craft) and offer enticing discounts to those in costume.\n\n\n\n .We did the mash\,\n\nit caught on in a flash\,\n\nwe did the mash\,\n\nWE DID THE MONSTER MASH .\n\n\n\nSponsored by the Fergus Falls Downtown Riverfront Council.\n\n-Free / Free will donation event-
X-ALT-DESC;FMTTYPE=text/html:<span>TWO PART EVENT - Saturday\, October 12th\, 2019<br />\nKid friendly &quot\;Trunk-R-Treat&quot\; - 5pm-6pm<br />\nSpooky costume party @ The Spot - 6pm-close<br />\n<br />\nIt&rsquo\;s that spooky time of year where ghouls\, vampires\, and witches roam.<br />\n<br />\nJoin us for a kid-friendly Trunk-r-Treat in the &ldquo\;old flour mill&rdquo\; parking lot behind Service Food! Participate by bringing your decorated vehicle to display while you hand out treats to kids! Or participate by bringing your kids to gather treats from trunks! Test out your Halloween costume before the big day\, or get ideas for your or your kids&rsquo\; costume! Businesses\, organizations and groups are encouraged to bring a vehicle and treats! Help bring in the Halloween season! No scary costumes\, please. The Trunk-r-Treat portion of this event will take place from 5pm-6pm.<br />\n<br />\nOnce the treats are collected and trunks are closed\, head on over to The Spot (220 W. Lincoln Ave.) where Fergus Brewing Company will be debuting their newest fall brew: Toastie Ghostie! Fill your caldron with this bubbly brew and enjoy other drink specials while gazing at all the ghastly costumes (some costumes may not be especially &quot\;kid friendly&quot\; and/or too spooky) and listen to live music from Sonus Nexus and performances by DJ Frankenlegs and DJ Slice Launcher! Costumes encouraged! Music at The Spot starts at 6pm!<br />\n<br />\nThis is a ghoulish opportunity to draw in a Halloween lovin&rsquo\; crowd\; we encourage downtown businesses to create interactive d&eacute\;cor (think &ldquo\;spooky selfie station&rdquo\; or &ldquo\;build-a-bat&rdquo\; craft) and offer enticing discounts to those in costume.<br />\n<br />\n&hellip\;.We did the mash\,<br />\nit caught on in a flash\,<br />\nwe did the mash\,<br />\nWE DID THE MONSTER MASH&hellip\;.<br />\n<br />\nSponsored by the Fergus Falls Downtown Riverfront Council.<br />\n-Free / Free will donation event-</span>
LOCATION:The Spot Panini & Wine 220 W Lincoln Ave Fergus Falls
UID:e.314.54781
SEQUENCE:3
DTSTAMP:20260422T222141Z
URL:https://business.fergusfalls.com/events/details/fergus-falls-monster-mash-the-spot-54781
END:VEVENT

END:VCALENDAR
