BEGIN:VCALENDAR
VERSION:2.0
PRODID:-//ChamberMaster//Event Calendar 2.0//EN
METHOD:PUBLISH
X-PUBLISHED-TTL:P3D
REFRESH-INTERVAL:P3D
CALSCALE:GREGORIAN
BEGIN:VEVENT
DTSTART:20171021T190000Z
DTEND:20171021T200000Z
X-MICROSOFT-CDO-ALLDAYEVENT:FALSE
SUMMARY:FERGUS FALLS NOON KIWANIS SERVICE SWEEP
DESCRIPTION:For only $10.00 you could win the chance at a 2 minute shopping spree at Service Food. Get your ticket now at Service Food or from any Noon Kiwanis member. Winning ticket will be drawn on Tuesday\, Oct 17th at FF Noon Kiwanis Club meeting.
X-ALT-DESC;FMTTYPE=text/html:<span class="_4n-j _3cht fsl" data-testid="event-permalink-details">For only $10.00 you could win the chance at a 2 minute shopping spree at Service Food. Get your ticket now at Service Food or from any Noon Kiwanis member. Winning ticket will be drawn on Tuesday\, Oct 17th at FF Noon Kiwanis Club meeting.</span>
LOCATION:Service Food Market 321 W Lincoln Ave Fergus Falls MN 56537
UID:e.314.41607
SEQUENCE:3
DTSTAMP:20260424T105246Z
URL:https://business.fergusfalls.com/events/details/fergus-falls-noon-kiwanis-service-sweep-41607
END:VEVENT

END:VCALENDAR
