BEGIN:VCALENDAR
VERSION:2.0
PRODID:-//ChamberMaster//Event Calendar 2.0//EN
METHOD:PUBLISH
X-PUBLISHED-TTL:P3D
REFRESH-INTERVAL:P3D
CALSCALE:GREGORIAN
BEGIN:VEVENT
DTSTART:20171021T160000Z
DTEND:20171021T183000Z
X-MICROSOFT-CDO-ALLDAYEVENT:FALSE
SUMMARY:Fergus Falls Noon Kiwanis Service Sweep
DESCRIPTION:Fergus Falls Service Sweep\n\nTickets are available at Service Food or from any Kiwanis Member. Winner will be drawn Tuesday October 17th @ noon.\n\n\n\nKiwanis will be selling hotdogs\, chips\, & beverages in the Service Food parking lot 11am to 1:30pm.
X-ALT-DESC;FMTTYPE=text/html:<span style="font-family:tahoma\;"><span style="font-size:18px\;"><strong>Fergus Falls Service Sweep</strong></span><br />\nTickets are available at Service Food or from any Kiwanis Member. Winner will be drawn Tuesday October 17th @ noon.<br />\n<br />\nKiwanis will be selling hotdogs\, chips\, &amp\; beverages in the Service Food parking lot 11am to 1:30pm.</span>
LOCATION:Service Food 321 W Lincoln Ave. Fergus Falls MN 56537
UID:e.314.42853
SEQUENCE:3
DTSTAMP:20260424T092534Z
URL:https://business.fergusfalls.com/events/details/fergus-falls-noon-kiwanis-service-sweep-42853
END:VEVENT

END:VCALENDAR
