BEGIN:VCALENDAR
VERSION:2.0
PRODID:-//ChamberMaster//Event Calendar 2.0//EN
METHOD:PUBLISH
X-PUBLISHED-TTL:P3D
REFRESH-INTERVAL:P3D
CALSCALE:GREGORIAN
BEGIN:VEVENT
DTSTART:20190120T200000Z
DTEND:20190120T220000Z
X-MICROSOFT-CDO-ALLDAYEVENT:FALSE
SUMMARY:Fergus Falls Noon Kiwanis Winter Karnival
DESCRIPTION:Noon Kiwanis Winter Karnival
X-ALT-DESC;FMTTYPE=text/html:Noon Kiwanis Winter Karnival
LOCATION:Lake Alice
UID:e.314.52373
SEQUENCE:3
DTSTAMP:20260423T105827Z
URL:https://business.fergusfalls.com/events/details/fergus-falls-noon-kiwanis-winter-karnival-52373
END:VEVENT

END:VCALENDAR
