BEGIN:VCALENDAR
VERSION:2.0
PRODID:-//ChamberMaster//Event Calendar 2.0//EN
METHOD:PUBLISH
X-PUBLISHED-TTL:P3D
REFRESH-INTERVAL:P3D
CALSCALE:GREGORIAN
BEGIN:VEVENT
DTSTART:20160727T223000Z
DTEND:20160727T233000Z
X-MICROSOFT-CDO-ALLDAYEVENT:FALSE
SUMMARY:Fergus Falls Officer Appreciation - Community Welcome
DESCRIPTION:Come out and show your appreciation to the men and women who protect our families\, homes\, businesses and community.  Just a simple appreciation for the sacrifices they and their families make every day.\n\n \n\nOn Wednesday\, July 27th\, we will be serving these men and women in thanks for their service to us.  We are not asking you for anything   except your time. We're looking for a "shock & awe" impact. Shock --  how many appreciate their unwavering service to our community. Awe -- in the fact that we unequivocally stand behind them.\n\n \n\nSo spread the word\, let's come out in masses to shake a hand\, give thanks\, or pray for their continued safety. Remember\, shock and awe.  They deserve it.\n\n \n\nWe will begin serving at the police station about 5:30 pm until about 6:30 pm\, Wednesday July 27th.  Hope to see you there.
X-ALT-DESC;FMTTYPE=text/html:Come out and show your appreciation to the men and women who protect our families\, homes\, businesses and community.&nbsp\; Just a simple appreciation for the sacrifices they and their families make every day.<br />\n&nbsp\;<br />\nOn Wednesday\, July 27<sup>th</sup>\, we will be serving these men and women in thanks for their service to us.&nbsp\; We are not asking you for anything &ndash\; except your time. We&#39\;re looking for a &quot\;shock &amp\; awe&quot\; impact. Shock -- &nbsp\;how many appreciate their unwavering service to our community. Awe -- in the fact that we unequivocally stand behind them.<br />\n&nbsp\;<br />\nSo spread the word\, let&rsquo\;s come out in masses to shake a hand\, give thanks\, or pray for their continued safety. Remember\, shock and awe.&nbsp\; They deserve it.<br />\n&nbsp\;<br />\nWe will begin serving at the police station about 5:30 pm until about 6:30 pm\, Wednesday July 27th.&nbsp\; Hope to see you there.<br />\n&nbsp\;
LOCATION:Fergus Falls Police Department
UID:e.314.33007
SEQUENCE:3
DTSTAMP:20260425T111756Z
URL:https://business.fergusfalls.com/events/details/fergus-falls-officer-appreciation-community-welcome-07-27-2016-33007
END:VEVENT

END:VCALENDAR
