BEGIN:VCALENDAR
VERSION:2.0
PRODID:-//ChamberMaster//Event Calendar 2.0//EN
METHOD:PUBLISH
X-PUBLISHED-TTL:P3D
REFRESH-INTERVAL:P3D
CALSCALE:GREGORIAN
BEGIN:VEVENT
DTSTART:20181202T173000Z
DTEND:20181202T190000Z
X-MICROSOFT-CDO-ALLDAYEVENT:FALSE
SUMMARY:FERGUS FALLS OPEN HOUSE!
DESCRIPTION:Warm & welcoming best describes this spacious home. With over 3800 sq ft and 3 finished levels\, there is room to spread out\, while still offering plenty of rooms to gather together. Sunlight permeates large prairie windows with expansive views from a great vantage point. 5 bedrooms and 4 bathrooms provide room for your family & friends. Quality kitchen finishes\, formal & casual dining spaces and a large deck overlooking a big backyard give you plenty of options for entertaining. Whether fireside on the main level\, or cozied up in the family room or rec space\, this place is everything you want home to be. Finished laundry room on upper level near bedrooms. Master Suite. Lower level walks out to beautifully finished patio. Well manicured lawn is complete with sprinkler system. $359\,900
X-ALT-DESC;FMTTYPE=text/html:<span style="color: rgb(0\, 0\, 0)\; font-family: arial\,helvetica\; font-size: 8pt\;">Warm &amp\; welcoming best describes this spacious home. With over 3800 sq ft and 3 finished levels\, there is room to spread out\, while still offering plenty of rooms to gather together. Sunlight permeates large prairie windows with expansive views from a great vantage point. 5 bedrooms and 4 bathrooms provide room for your family &amp\; friends. Quality kitchen finishes\, formal &amp\; casual dining spaces and a large deck overlooking a big backyard give you plenty of options for entertaining. Whether fireside on the main level\, or cozied up in the family room or rec space\, this place is everything you want home to be. Finished laundry room on upper level near bedrooms. Master Suite. Lower level walks out to beautifully finished patio. Well manicured lawn is complete with sprinkler system. $359\,900</span>
LOCATION:1207 MARTIN STREET SOUTH\, FERGUS FALLS\, MN 56537
UID:e.314.52048
SEQUENCE:3
DTSTAMP:20260423T121940Z
URL:https://business.fergusfalls.com/events/details/fergus-falls-open-house-52048
END:VEVENT

END:VCALENDAR
