BEGIN:VCALENDAR
VERSION:2.0
PRODID:-//ChamberMaster//Event Calendar 2.0//EN
METHOD:PUBLISH
X-PUBLISHED-TTL:P3D
REFRESH-INTERVAL:P3D
CALSCALE:GREGORIAN
BEGIN:VEVENT
DTSTART:20180901T000000Z
DTEND:20180901T023000Z
X-MICROSOFT-CDO-ALLDAYEVENT:FALSE
SUMMARY:Fergus Falls OTTER Football
DESCRIPTION:Friday Night Vs. Willmar at Otter Stadium!
X-ALT-DESC;FMTTYPE=text/html:<div class="_63ew" data-testid="event-permalink-details"><span>Friday Night Vs. Willmar at Otter Stadium! </span></div>\n
LOCATION:Fergus Falls OTTER Football 602 Randolpf Ave\, Fergus Falls
UID:e.314.50340
SEQUENCE:3
DTSTAMP:20260423T181358Z
URL:https://business.fergusfalls.com/events/details/fergus-falls-otter-football-50340
END:VEVENT

END:VCALENDAR
