BEGIN:VCALENDAR
VERSION:2.0
PRODID:-//ChamberMaster//Event Calendar 2.0//EN
METHOD:PUBLISH
X-PUBLISHED-TTL:P3D
REFRESH-INTERVAL:P3D
CALSCALE:GREGORIAN
BEGIN:VEVENT
DTSTART:20190413T140000Z
DTEND:20190413T200000Z
X-MICROSOFT-CDO-ALLDAYEVENT:FALSE
SUMMARY:Fergus Falls Public Library Grand Opening Celebration
DESCRIPTION:Thank you for helping to make the Library Renewal Project a reality for our community! The library held a soft opening on January 22 and since then nearly 20\,000 visits have been made to the library\, and items were checked out more than 21\,000 times in February. With spring in the air and the snow melting--it's time to celebrate!\n\n\n\nA Grand Opening Celebration for the Fergus Falls Public Library Renewal Project is set for Saturday\, April 13. The event is free and open to all. Highlights include: \n\n	9 a.m.: Noon Kiwanis Egg Hunt in the Library\, followed by the annual Noon Kiwanis Teddy Bear Picnic Family Storytime\n	10 a.m.-Noon: Facepainting in the Children's Area\n	11 a.m.: Ribbon Cutting Ceremony\n	1 p.m.: "This One's for the Books: Our Library Through the Ages\," presented by Chris Schuelke\, OTCHS Director. Sponsored by the Friends of the Fergus Falls Public Library\n	1-3 p.m.: Meet the Makerspace: 3D pen and printer\, button maker\, robots and more!\n\nWe look forward to celebrating with you!
X-ALT-DESC;FMTTYPE=text/html:<span style="color: rgb(29\, 33\, 41)\; font-family: Helvetica\, Arial\, sans-serif\; font-size: 14px\; white-space: pre-wrap\;">Thank you for helping to make the Library Renewal Project a reality for our community! The library held a soft opening on January 22 and since then nearly 20\,000 visits have been made to the library\, and items were checked out more than 21\,000 times in February. With spring in the air and the snow melting--it&#39\;s time to celebrate!</span><br style="color: rgb(29\, 33\, 41)\; font-family: Helvetica\, Arial\, sans-serif\; font-size: 14px\; white-space: pre-wrap\;" />\n<br style="color: rgb(29\, 33\, 41)\; font-family: Helvetica\, Arial\, sans-serif\; font-size: 14px\; white-space: pre-wrap\;" />\n<span style="color: rgb(29\, 33\, 41)\; font-family: Helvetica\, Arial\, sans-serif\; font-size: 14px\; white-space: pre-wrap\;">A Grand Opening Celebration for the Fergus Falls Public Library Renewal Project is set for Saturday\, April 13. The event is free and open to all. Highlights include: </span>\n<ul>\n	<li><span style="color: rgb(29\, 33\, 41)\; font-family: Helvetica\, Arial\, sans-serif\; font-size: 14px\; white-space: pre-wrap\;">9 a.m.: Noon Kiwanis Egg Hunt in the Library\, followed by the annual Noon Kiwanis Teddy Bear Picnic Family Storytime</span></li>\n	<li><span style="color: rgb(29\, 33\, 41)\; font-family: Helvetica\, Arial\, sans-serif\; font-size: 14px\; white-space: pre-wrap\;">10 a.m.-Noon: Facepainting in the Children&#39\;s Area</span></li>\n	<li><span style="color: rgb(29\, 33\, 41)\; font-family: Helvetica\, Arial\, sans-serif\; font-size: 14px\; white-space: pre-wrap\;">11 a.m.: Ribbon Cutting Ceremony</span></li>\n	<li><span style="color: rgb(29\, 33\, 41)\; font-family: Helvetica\, Arial\, sans-serif\; font-size: 14px\; white-space: pre-wrap\;">1 p.m.: &quot\;This One&#39\;s for the Books: Our Library Through the Ages\,&quot\; presented by Chris Schuelke\, OTCHS Director. Sponsored by the Friends of the Fergus Falls Public Library</span></li>\n	<li><span style="color: rgb(29\, 33\, 41)\; font-family: Helvetica\, Arial\, sans-serif\; font-size: 14px\; white-space: pre-wrap\;">1-3 p.m.: Meet the Makerspace: 3D pen and printer\, button maker\, robots and more!</span></li>\n</ul>\n<span style="color: rgb(29\, 33\, 41)\; font-family: Helvetica\, Arial\, sans-serif\; font-size: 14px\; white-space: pre-wrap\;">We look forward to celebrating with you!</span>
LOCATION:Fergus Falls Public Library 205 E. Hampden Fergus Falls\, MN
UID:e.314.53027
SEQUENCE:3
DTSTAMP:20260423T063048Z
URL:https://business.fergusfalls.com/events/details/fergus-falls-public-library-grand-opening-celebration-53027
END:VEVENT

END:VCALENDAR
