BEGIN:VCALENDAR
VERSION:2.0
PRODID:-//ChamberMaster//Event Calendar 2.0//EN
METHOD:PUBLISH
X-PUBLISHED-TTL:P3D
REFRESH-INTERVAL:P3D
CALSCALE:GREGORIAN
BEGIN:VEVENT
DTSTART;VALUE=DATE:20161125
DTEND;VALUE=DATE:20161126
TRANSP:TRANSPARENT
X-MICROSOFT-CDO-ALLDAYEVENT:TRUE
SUMMARY:Fergus Falls Public School Calendar
DESCRIPTION:Thanksgiving Break\n\nNovember 24th thru 25th
X-ALT-DESC;FMTTYPE=text/html:Thanksgiving Break<br />\nNovember 24th thru 25th
LOCATION:
UID:e.314.36988
SEQUENCE:3
DTSTAMP:20260425T040557Z
URL:https://business.fergusfalls.com/events/details/fergus-falls-public-school-calendar-36988
END:VEVENT

END:VCALENDAR
