BEGIN:VCALENDAR
VERSION:2.0
PRODID:-//ChamberMaster//Event Calendar 2.0//EN
METHOD:PUBLISH
X-PUBLISHED-TTL:P3D
REFRESH-INTERVAL:P3D
CALSCALE:GREGORIAN
BEGIN:VEVENT
DTSTART;VALUE=DATE:20180508
DTEND;VALUE=DATE:20180509
TRANSP:TRANSPARENT
X-MICROSOFT-CDO-ALLDAYEVENT:TRUE
SUMMARY:Fergus Falls Salvation Army Food Fundraiser
DESCRIPTION:10% of total grocery sales during the week of 5/1/18 to 5/7/18 will go to the Salvation Army of Fergus Falls in FREE FOOD for their Emergency Disaster Relief programs. 1. Click on the event link on the "Fergus Falls Salvation Army" Facebook page or from "Thrive Life with Jennifer Stans" Facebook page. 2. Visit www.jenniferstans.thrivelife.com If on your mobile phone\, scroll down to the "Shop" button or click on the three bars/drop down menu in the top right corner of the website. Click on "Shop". If on your laptop\, click on "Shop" across the top banner of the website. 3. Shop One-time by Category and complete your purchase. 4. If you choose to purchase food for yourself\, please list your personal address in the shipping information. If you choose to purchase food and donate the food items directly to the Salvation Army\, please list their address in the shipping location: 622 E. Vernon Ave.\, Fergus Falls\, MN 56537
X-ALT-DESC;FMTTYPE=text/html:10% of total grocery sales during the week of 5/1/18 to 5/7/18 will go to the Salvation Army of Fergus Falls in FREE FOOD for their Emergency Disaster Relief programs. 1. Click on the event link on the &ldquo\;Fergus Falls Salvation Army&rdquo\; Facebook page or from &ldquo\;Thrive Life with Jennifer Stans&rdquo\; Facebook page. 2. Visit www.jenniferstans.thrivelife.com If on your mobile phone\, scroll down to the &ldquo\;Shop&rdquo\; button or click on the three bars/drop down menu in the top right corner of the website. Click on &ldquo\;Shop&rdquo\;. If on your laptop\, click on &ldquo\;Shop&rdquo\; across the top banner of the website. 3. Shop One-time by Category and complete your purchase. 4. If you choose to purchase food for yourself\, please list your personal address in the shipping information. If you choose to purchase food and donate the food items directly to the Salvation Army\, please list their address in the shipping location: 622 E. Vernon Ave.\, Fergus Falls\, MN 56537
LOCATION:Online www.jenniferstans.thrivelife.com
UID:e.314.48765
SEQUENCE:3
DTSTAMP:20260423T230153Z
URL:https://business.fergusfalls.com/events/details/fergus-falls-salvation-army-food-fundraiser-05-08-2018-48765
END:VEVENT

END:VCALENDAR
