BEGIN:VCALENDAR
VERSION:2.0
PRODID:-//ChamberMaster//Event Calendar 2.0//EN
METHOD:PUBLISH
X-PUBLISHED-TTL:P3D
REFRESH-INTERVAL:P3D
CALSCALE:GREGORIAN
BEGIN:VEVENT
DTSTART:20180925T130000Z
DTEND:20180925T170000Z
X-MICROSOFT-CDO-ALLDAYEVENT:FALSE
SUMMARY:Fergus Falls Small Business Training: Leadership Series
DESCRIPTION:Hosted by Fergus Falls Area Economic Improvement Commission\n\nStudies show employees don't leave jobs\, they leave managers. With the employment challenges in our region\, it is critical that leaders understand what it takes to retain valuable employees. In this interactive 3-part session\, we will identify key characteristics that effective leaders have in common\, explore the basic needs of followers\, and practice techniques for improving engagement through strengths-based coaching.\n\nIn addition\, we will define the various dimensions of diversity in our communities and workplaces\, and explore ways to ensure we are building a respectful and welcoming environment.\n\n\n\nSept 25 Session 1: You are a Leader only if Others Follow\n\nOct 23 Session 2: Coaching for Higher Engagement and Performance\n\nNov 27 Session 3: Leading and Serving in a Diverse
X-ALT-DESC;FMTTYPE=text/html:<div class="_20zf"><strong>Hosted by Fergus Falls Area Economic Improvement Commission</strong><br />\n<span>Studies show employees don&#39\;t leave jobs\, they leave managers. With the employment challenges in our region\, it is critical that leaders understand what it takes to retain valuable employees. In this interactive 3-part session\, we will identify key characteristics that effective leaders have in common\, explore the basic needs of followers\, and practice techniques for improving engagement through strengths-based coaching.<br />\nIn addition\, we will define the various dimensions of diversity in our communities and workplaces\, and explore ways to ensure we are building a respectful and welcoming environment.<br />\n<br />\nSept 25&mdash\;Session 1: You are a Leader only if Others Follow<br />\nOct 23&mdash\;Session 2: Coaching for Higher Engagement and Performance<br />\nNov 27&mdash\;Session 3: Leading and Serving in a Diverse </span></div>\n
LOCATION:M State Fergus Falls 1414 College Way Fergus Falls
UID:e.314.50328
SEQUENCE:3
DTSTAMP:20260423T181411Z
URL:https://business.fergusfalls.com/events/details/fergus-falls-small-business-training-leadership-series-50328
END:VEVENT

END:VCALENDAR
