BEGIN:VCALENDAR
VERSION:2.0
PRODID:-//ChamberMaster//Event Calendar 2.0//EN
METHOD:PUBLISH
X-PUBLISHED-TTL:P3D
REFRESH-INTERVAL:P3D
CALSCALE:GREGORIAN
BEGIN:VEVENT
DTSTART:20180608T170000Z
DTEND:20180609T010000Z
X-MICROSOFT-CDO-ALLDAYEVENT:FALSE
SUMMARY:Fergus Falls Summerfest
DESCRIPTION:Two days of family friendly: music\, art\, children's activities\, demonstrations\, fabulous food choices and shopping!! All at the Mighty Kirkbride! Save the date to join us kick off the start of summer and showcase our great city of Fergus Falls! Check our web site often\, activities will be updated as they are confirmed!!
X-ALT-DESC;FMTTYPE=text/html:Two days of family friendly: music\, art\, children&#39\;s activities\, demonstrations\, fabulous food choices and shopping!! All at the Mighty Kirkbride! Save the date to join us kick off the start of summer and showcase our great city of Fergus Falls! Check our web site often\, activities will be updated as they are confirmed!!
LOCATION:Kirkbride Park: North side of Fergus Falls
UID:e.314.43900
SEQUENCE:3
DTSTAMP:20260423T211704Z
URL:https://business.fergusfalls.com/events/details/fergus-falls-summerfest-43900
END:VEVENT

END:VCALENDAR
