BEGIN:VCALENDAR
VERSION:2.0
PRODID:-//ChamberMaster//Event Calendar 2.0//EN
METHOD:PUBLISH
X-PUBLISHED-TTL:P3D
REFRESH-INTERVAL:P3D
CALSCALE:GREGORIAN
BEGIN:VEVENT
DTSTART;VALUE=DATE:20161207
DTEND;VALUE=DATE:20161208
TRANSP:TRANSPARENT
X-MICROSOFT-CDO-ALLDAYEVENT:TRUE
SUMMARY:Fergus Falls Youth Hockey Fundraising Dining out at Union Pizza
DESCRIPTION:On Wednesday December 7th from open to close\, Union Pizza will donate 20% of the days sales to Fergus Falls Youth Hockey Association. Come on out\, eat some pizza and show your support!
X-ALT-DESC;FMTTYPE=text/html:On Wednesday December 7th from open to close\, Union Pizza will donate 20% of the days sales to Fergus Falls Youth Hockey Association. Come on out\, eat some pizza and show your support!
LOCATION:Union Pizza
UID:e.314.37208
SEQUENCE:3
DTSTAMP:20260425T041439Z
URL:https://business.fergusfalls.com/events/details/fergus-falls-youth-hockey-fundraising-dining-out-at-union-pizza-37208
END:VEVENT

END:VCALENDAR
