BEGIN:VCALENDAR
VERSION:2.0
PRODID:-//ChamberMaster//Event Calendar 2.0//EN
METHOD:PUBLISH
X-PUBLISHED-TTL:P3D
REFRESH-INTERVAL:P3D
CALSCALE:GREGORIAN
BEGIN:VEVENT
DTSTART:20181013T223000Z
DTEND:20181014T040000Z
X-MICROSOFT-CDO-ALLDAYEVENT:FALSE
SUMMARY:Fergus Falls Zombie Crawl Ball 2018\, Dressed to the Grimes
DESCRIPTION:Fergus Falls Zombie Crawl Ball 2018\, Dressed to the Grimes!\n\n \n\nIt's that time of year again when the undead will be walking the streets of Fergus Falls\, MN. You may have heard\, this will be the final FFZC. Come celebrate a decade of zombie madness! I (Dominic Facio) will be organizing a refreshed event for next year\, potentially titled The Monster Mash\, which will expand the community's costume/makeup/character creativity! \n\n\n\nTo celebrate 10 years of horror\, this event is titled the Fergus Falls Zombie Crawl Ball\, Dressed to the Grimes! Come in your most disgusting\, decrepit ball gown\, tuxedo\, suit\, dress\, etc. \n\n\n\nFree event / free will donations accepted. \n\n\n\n5:30pm- Starting point: Meet at the Old Flour Mill parking lot (behind Service Food) in your best zombie costume and makeup! (All Ages)\n\n5:45pm- Walk\, lurk\, crawl up and down downtown Fergus Falls\, making your way to The Spot.\n\n6pm-11pm- DJ sets from:\n\nCHEEF\n\nFAILING TO FUNCTION \n\nSLICE LAUNCHER\n\nFRANKENLEGS
X-ALT-DESC;FMTTYPE=text/html:<div><span style="background-color: rgb(255\, 255\, 255)\; color: rgb(29\, 33\, 41)\; font-family: Helvetica\, Arial\, sans-serif\; font-size: 20px\;">Fergus Falls Zombie Crawl Ball 2018\, Dressed to the Grimes!</span></div>\n\n<div>&nbsp\;</div>\n\n<div><span style="color: rgb(29\, 33\, 41)\; font-family: Helvetica\, Arial\, sans-serif\; font-size: 14px\; background-color: rgb(255\, 255\, 255)\;">It&#39\;s that time of year again when the undead will be walking the streets of Fergus Falls\, MN. You may have heard\, this will be the final FFZC. Come celebrate a decade of zombie madness! I (Dominic Facio) will be organizing a refreshed event for next year\, potentially titled The Monster Mash\, which will expand the community&#39\;s costume/makeup/character creativity!&nbsp\;</span><br style="color: rgb(29\, 33\, 41)\; font-family: Helvetica\, Arial\, sans-serif\; font-size: 14px\; background-color: rgb(255\, 255\, 255)\;" />\n<br style="color: rgb(29\, 33\, 41)\; font-family: Helvetica\, Arial\, sans-serif\; font-size: 14px\; background-color: rgb(255\, 255\, 255)\;" />\n<span style="color: rgb(29\, 33\, 41)\; font-family: Helvetica\, Arial\, sans-serif\; font-size: 14px\; background-color: rgb(255\, 255\, 255)\;">To celebrate 10 years of horror\, this event is titled the Fergus Falls Zombie Crawl Ball\, Dressed to the Grimes! Come in your most disgusting\, decrepit ball gown\, tuxedo\, suit\, dress\, etc.&nbsp\;</span><br style="color: rgb(29\, 33\, 41)\; font-family: Helvetica\, Arial\, sans-serif\; font-size: 14px\; background-color: rgb(255\, 255\, 255)\;" />\n<br style="color: rgb(29\, 33\, 41)\; font-family: Helvetica\, Arial\, sans-serif\; font-size: 14px\; background-color: rgb(255\, 255\, 255)\;" />\n<span style="color: rgb(29\, 33\, 41)\; font-family: Helvetica\, Arial\, sans-serif\; font-size: 14px\; background-color: rgb(255\, 255\, 255)\;">Free event / free will donations accepted.&nbsp\;</span><br style="color: rgb(29\, 33\, 41)\; font-family: Helvetica\, Arial\, sans-serif\; font-size: 14px\; background-color: rgb(255\, 255\, 255)\;" />\n<br style="color: rgb(29\, 33\, 41)\; font-family: Helvetica\, Arial\, sans-serif\; font-size: 14px\; background-color: rgb(255\, 255\, 255)\;" />\n<span style="color: rgb(29\, 33\, 41)\; font-family: Helvetica\, Arial\, sans-serif\; font-size: 14px\; background-color: rgb(255\, 255\, 255)\;">5:30pm- Starting point: Meet at the Old Flour Mill parking lot (behind Service Food) in your best zombie costume and makeup! (All Ages)</span><br style="color: rgb(29\, 33\, 41)\; font-family: Helvetica\, Arial\, sans-serif\; font-size: 14px\; background-color: rgb(255\, 255\, 255)\;" />\n<span style="color: rgb(29\, 33\, 41)\; font-family: Helvetica\, Arial\, sans-serif\; font-size: 14px\; background-color: rgb(255\, 255\, 255)\;">5:45pm- Walk\, lurk\, crawl up and down downtown Fergus Falls\, making your way to The Spot.</span><br style="color: rgb(29\, 33\, 41)\; font-family: Helvetica\, Arial\, sans-serif\; font-size: 14px\; background-color: rgb(255\, 255\, 255)\;" />\n<span style="color: rgb(29\, 33\, 41)\; font-family: Helvetica\, Arial\, sans-serif\; font-size: 14px\; background-color: rgb(255\, 255\, 255)\;">6pm-11pm- DJ sets from:</span><br style="color: rgb(29\, 33\, 41)\; font-family: Helvetica\, Arial\, sans-serif\; font-size: 14px\; background-color: rgb(255\, 255\, 255)\;" />\n<span style="color: rgb(29\, 33\, 41)\; font-family: Helvetica\, Arial\, sans-serif\; font-size: 14px\; background-color: rgb(255\, 255\, 255)\;">CHEEF</span><br style="color: rgb(29\, 33\, 41)\; font-family: Helvetica\, Arial\, sans-serif\; font-size: 14px\; background-color: rgb(255\, 255\, 255)\;" />\n<span style="color: rgb(29\, 33\, 41)\; font-family: Helvetica\, Arial\, sans-serif\; font-size: 14px\; background-color: rgb(255\, 255\, 255)\;">FAILING TO FUNCTION&nbsp\;</span><br style="color: rgb(29\, 33\, 41)\; font-family: Helvetica\, Arial\, sans-serif\; font-size: 14px\; background-color: rgb(255\, 255\, 255)\;" />\n<span style="color: rgb(29\, 33\, 41)\; font-family: Helvetica\, Arial\, sans-serif\; font-size: 14px\; background-color: rgb(255\, 255\, 255)\;">SLICE LAUNCHER</span><br style="color: rgb(29\, 33\, 41)\; font-family: Helvetica\, Arial\, sans-serif\; font-size: 14px\; background-color: rgb(255\, 255\, 255)\;" />\n<span style="color: rgb(29\, 33\, 41)\; font-family: Helvetica\, Arial\, sans-serif\; font-size: 14px\; background-color: rgb(255\, 255\, 255)\;">FRANKENLEGS</span><br style="color: rgb(29\, 33\, 41)\; font-family: Helvetica\, Arial\, sans-serif\; font-size: 14px\; background-color: rgb(255\, 255\, 255)\;" />\n&nbsp\;</div>\n
LOCATION:The Spot Panini & Wine 220 W Lincoln Ave Fergus Falls
UID:e.314.50469
SEQUENCE:3
DTSTAMP:20260423T164943Z
URL:https://business.fergusfalls.com/events/details/fergus-falls-zombie-crawl-ball-2018-dressed-to-the-grimes-50469
END:VEVENT

END:VCALENDAR
