BEGIN:VCALENDAR
VERSION:2.0
PRODID:-//ChamberMaster//Event Calendar 2.0//EN
METHOD:PUBLISH
X-PUBLISHED-TTL:P3D
REFRESH-INTERVAL:P3D
CALSCALE:GREGORIAN
BEGIN:VEVENT
DTSTART:20190427T130000Z
DTEND:20190427T210000Z
X-MICROSOFT-CDO-ALLDAYEVENT:FALSE
SUMMARY:Fergus Home & Hardware Customer Appreciation
DESCRIPTION:Fergus Home & Hardware would like to let its current and future customers know how much they are appreciated! On Saturday\, April 27 we'll be hosting the Big Green Egg guy and other vendors who will be giving demos all day and serving a FREE lunch right off the Big Green Egg grill! We'll have sign ups for awesome door prizes and chances to learn more about Fergus Home & Hardware and all we have to offer our community in products and services.
X-ALT-DESC;FMTTYPE=text/html:Fergus Home &amp\; Hardware would like to let its current and future customers know how much they are appreciated! On Saturday\, April 27 we&#39\;ll be hosting the Big Green Egg guy and other vendors who will be giving demos all day and serving a FREE lunch right off the Big Green Egg grill! We&#39\;ll have sign ups for awesome door prizes and chances to learn more about Fergus Home &amp\; Hardware and all we have to offer our community in products and services.
LOCATION:Fergus Home & Hardware 1005 North Tower Road Fergus Falls\, MN 56537
UID:e.314.53057
SEQUENCE:3
DTSTAMP:20260423T062918Z
URL:https://business.fergusfalls.com/events/details/fergus-home-hardware-customer-appreciation-53057
END:VEVENT

END:VCALENDAR
